BEGIN:VCALENDAR
VERSION:2.0
PRODID:-//The Women&#039;s Adventure Club - ECPv6.15.20//NONSGML v1.0//EN
CALSCALE:GREGORIAN
METHOD:PUBLISH
X-ORIGINAL-URL:https://womensadventureclub.org
X-WR-CALDESC:Events for The Women&#039;s Adventure Club
REFRESH-INTERVAL;VALUE=DURATION:PT1H
X-Robots-Tag:noindex
X-PUBLISHED-TTL:PT1H
BEGIN:VTIMEZONE
TZID:America/Denver
BEGIN:DAYLIGHT
TZOFFSETFROM:-0700
TZOFFSETTO:-0600
TZNAME:MDT
DTSTART:20250309T090000
END:DAYLIGHT
BEGIN:STANDARD
TZOFFSETFROM:-0600
TZOFFSETTO:-0700
TZNAME:MST
DTSTART:20251102T080000
END:STANDARD
BEGIN:DAYLIGHT
TZOFFSETFROM:-0700
TZOFFSETTO:-0600
TZNAME:MDT
DTSTART:20260308T090000
END:DAYLIGHT
BEGIN:STANDARD
TZOFFSETFROM:-0600
TZOFFSETTO:-0700
TZNAME:MST
DTSTART:20261101T080000
END:STANDARD
BEGIN:DAYLIGHT
TZOFFSETFROM:-0700
TZOFFSETTO:-0600
TZNAME:MDT
DTSTART:20270314T090000
END:DAYLIGHT
BEGIN:STANDARD
TZOFFSETFROM:-0600
TZOFFSETTO:-0700
TZNAME:MST
DTSTART:20271107T080000
END:STANDARD
END:VTIMEZONE
BEGIN:VEVENT
DTSTART;TZID=America/Denver:20260207T090000
DTEND;TZID=America/Denver:20260207T110000
DTSTAMP:20260423T104813
CREATED:20251222T154604Z
LAST-MODIFIED:20260113T184806Z
UID:10000214-1770454800-1770462000@womensadventureclub.org
SUMMARY:Hike/Snowshoe at Rim Rock Trail to Creek Trail Loop
DESCRIPTION:Get ready for a 4.6-mile adventure through the stunning Castlewood Canyon State Park\, located near Franktown\, Colorado! This moderately challenging loop trail takes you through scenic landscapes\, from creek-side views and a charming waterfall to sweeping vistas above the canyon. Depending on trail conditions\, we will either hike or snowshoe. Please plan to bring both snowshoes and microspikes. \nThe first half of the trail follows a creek\, where you’ll enjoy peaceful moments by the water and admire the small waterfall along the way. As you continue\, the trail ascends above the canyon\, offering breathtaking views of the surrounding area. Be prepared for elevation changes and rocky\, stepped sections that may be icy depending on conditions. \nImportant Reminders: \n\nAs this is a popular spot for birding\, hiking\, and running\, you’ll likely share the path with other outdoor enthusiasts. Dogs are welcome but must remain on a leash.\nThis is a state park and requires a $10 – $12 entrance fee or a Keep Colorado Wild annual pass on your vehicle registration.\n\nTrail Details: \n\nDistance: 4.6 miles\nElevation Gain: 603 ft\nDifficulty: Moderately challenging\nEstimated Time: 2 hours\nLocation: Castlewood Canyon State Park\, Franktown\, CO\nParking: Available at the trailhead\n\nTrail Guides: Kelly Phillips and Rachel Grasso \nDon’t miss out on this beautiful hike—join us for great views\, a rewarding challenge\, and the opportunity to connect with other women in the WAC community!
URL:https://womensadventureclub.org/event/hike-rim-rock-trail-to-creek-trail-loop-3/
LOCATION:Castlewood Canyon State Park West Entrance\, 125 N Castlewood Canyon Rd\, Castle Rock\, CO\, 80104\, United States
CATEGORIES:Adventures
ATTACH;FMTTYPE=image/jpeg:https://womensadventureclub.org/wp-content/uploads/2025/12/RimRock_Castlewood2.jpg
END:VEVENT
END:VCALENDAR