BEGIN:VCALENDAR
VERSION:2.0
PRODID:-//The Women&#039;s Adventure Club - ECPv6.15.20//NONSGML v1.0//EN
CALSCALE:GREGORIAN
METHOD:PUBLISH
X-WR-CALNAME:The Women&#039;s Adventure Club
X-ORIGINAL-URL:https://womensadventureclub.org
X-WR-CALDESC:Events for The Women&#039;s Adventure Club
REFRESH-INTERVAL;VALUE=DURATION:PT1H
X-Robots-Tag:noindex
X-PUBLISHED-TTL:PT1H
BEGIN:VTIMEZONE
TZID:America/Denver
BEGIN:DAYLIGHT
TZOFFSETFROM:-0700
TZOFFSETTO:-0600
TZNAME:MDT
DTSTART:20250309T090000
END:DAYLIGHT
BEGIN:STANDARD
TZOFFSETFROM:-0600
TZOFFSETTO:-0700
TZNAME:MST
DTSTART:20251102T080000
END:STANDARD
BEGIN:DAYLIGHT
TZOFFSETFROM:-0700
TZOFFSETTO:-0600
TZNAME:MDT
DTSTART:20260308T090000
END:DAYLIGHT
BEGIN:STANDARD
TZOFFSETFROM:-0600
TZOFFSETTO:-0700
TZNAME:MST
DTSTART:20261101T080000
END:STANDARD
BEGIN:DAYLIGHT
TZOFFSETFROM:-0700
TZOFFSETTO:-0600
TZNAME:MDT
DTSTART:20270314T090000
END:DAYLIGHT
BEGIN:STANDARD
TZOFFSETFROM:-0600
TZOFFSETTO:-0700
TZNAME:MST
DTSTART:20271107T080000
END:STANDARD
END:VTIMEZONE
BEGIN:VEVENT
DTSTART;TZID=America/Denver:20260225T090000
DTEND;TZID=America/Denver:20260225T110000
DTSTAMP:20260423T104354
CREATED:20260104T200300Z
LAST-MODIFIED:20260216T035327Z
UID:10000220-1772010000-1772017200@womensadventureclub.org
SUMMARY:Hike Daniel's Park
DESCRIPTION:Step into a truly unique Colorado experience at Daniel’s Park—where wide-open views meet roaming bison. This easy\, scenic out-and-back hike follows a well-maintained gravel trail near the road and offers the rare opportunity to see bison grazing on the range. On lucky days\, the herds may be visible up close\, making this a memorable and one-of-a-kind outing.\nThe full route is approximately 5.8 miles\, but since it’s an out-and-back\, we’ll decide as a group how far we want to go. With gentle terrain and minimal elevation gain\, this hike is perfect for all comfort levels and anyone looking for a relaxed walk with incredible views and wildlife sightings. \nTrail Details: \n\nDistance: Up to 5.8 miles (out and back)\nDifficulty: Easy\nSurface: Gravel trail\n\nBring water\, sun protection\, and your camera—you never know when a bison photo-op might appear! \nTrail Guides: Alison Cagaanan 281-382-4582 Laura Wood 909-229-5896
URL:https://womensadventureclub.org/event/hike-daniels-park-2/
LOCATION:Daniel’s Park\, 8682 N Daniels Park Road\, Sedalia\, CO\, 80135\, United States
CATEGORIES:Adventures
ATTACH;FMTTYPE=image/jpeg:https://womensadventureclub.org/wp-content/uploads/2026/01/Daniels-park2.jpg
END:VEVENT
END:VCALENDAR