BEGIN:VCALENDAR
VERSION:2.0
PRODID:-//The Women&#039;s Adventure Club - ECPv6.15.20//NONSGML v1.0//EN
CALSCALE:GREGORIAN
METHOD:PUBLISH
X-WR-CALNAME:The Women&#039;s Adventure Club
X-ORIGINAL-URL:https://womensadventureclub.org
X-WR-CALDESC:Events for The Women&#039;s Adventure Club
REFRESH-INTERVAL;VALUE=DURATION:PT1H
X-Robots-Tag:noindex
X-PUBLISHED-TTL:PT1H
BEGIN:VTIMEZONE
TZID:America/Denver
BEGIN:DAYLIGHT
TZOFFSETFROM:-0700
TZOFFSETTO:-0600
TZNAME:MDT
DTSTART:20250309T090000
END:DAYLIGHT
BEGIN:STANDARD
TZOFFSETFROM:-0600
TZOFFSETTO:-0700
TZNAME:MST
DTSTART:20251102T080000
END:STANDARD
BEGIN:DAYLIGHT
TZOFFSETFROM:-0700
TZOFFSETTO:-0600
TZNAME:MDT
DTSTART:20260308T090000
END:DAYLIGHT
BEGIN:STANDARD
TZOFFSETFROM:-0600
TZOFFSETTO:-0700
TZNAME:MST
DTSTART:20261101T080000
END:STANDARD
BEGIN:DAYLIGHT
TZOFFSETFROM:-0700
TZOFFSETTO:-0600
TZNAME:MDT
DTSTART:20270314T090000
END:DAYLIGHT
BEGIN:STANDARD
TZOFFSETFROM:-0600
TZOFFSETTO:-0700
TZNAME:MST
DTSTART:20271107T080000
END:STANDARD
END:VTIMEZONE
BEGIN:VEVENT
DTSTART;TZID=America/Denver:20260311T090000
DTEND;TZID=America/Denver:20260311T110000
DTSTAMP:20260423T091808
CREATED:20260130T181903Z
LAST-MODIFIED:20260213T224233Z
UID:10000223-1773219600-1773226800@womensadventureclub.org
SUMMARY:Hike Dawson's Butte
DESCRIPTION:Join us for a 4.9-mile loop hike on the beautiful Dawson Butte Trail near Larkspur\, Colorado! This route takes us through serene wooded areas\, across vast open pastures\, and beneath towering lodgepole pines\, offering a mix of scenic views and a touch of adventure. \nTrail Highlights: \n\nDistance: 4.9 miles (loop)\nDifficulty: Easy\nElevation Gain: Minimal\n\nEstimated Time: ~1 hour\, 50 minutes \nTerrain: Well-maintained with easy switchbacks and a small climb \nWhat to Expect: \n\nSweeping vistas of Castle Rock’s slopes and Dawson Butte’s striking\, castle-like face\nPeaceful wooded sections and wide-open meadows bursting with wildflowers (seasonal)\nRest stops at cozy log seating areas and the scenic Picnic Tree for a well-deserved break\n\nWhat to Bring: \n\nTraction (microspikes recommended)\nWarm\, breathable layers\nWater and snacks\n\nTrail Guides: Kelly Phillips 720-231-6443 and Robin Lythgoe 912-441-8538 \nWhether you’re here for the views\, the fresh air\, or simply the joy of hiking with a great group\, this trail has something for everyone. Sign up today and let’s explore Dawson Butte together! \n\n\n\nTrail Guide Contact: Kaylene Macias(303) 827-9833\n\n\n\n\n	Who's coming?\n\n	0 people are attending Menopause & Mental Health \n	\n\n[/tribe_tickets_rsvp_protected_content]
URL:https://womensadventureclub.org/event/hike-dawsons-butte-6/
LOCATION:Dawson Butte\, Castle Rock\, CO\, 80109\, United States
CATEGORIES:Adventures
ATTACH;FMTTYPE=image/png:https://womensadventureclub.org/wp-content/uploads/2026/01/ChatGPT-Image-Jan-30-2026-11_17_26-AM.png
END:VEVENT
END:VCALENDAR