BEGIN:VCALENDAR
VERSION:2.0
PRODID:-//The Women&#039;s Adventure Club - ECPv6.15.20//NONSGML v1.0//EN
CALSCALE:GREGORIAN
METHOD:PUBLISH
X-WR-CALNAME:The Women&#039;s Adventure Club
X-ORIGINAL-URL:https://womensadventureclub.org
X-WR-CALDESC:Events for The Women&#039;s Adventure Club
REFRESH-INTERVAL;VALUE=DURATION:PT1H
X-Robots-Tag:noindex
X-PUBLISHED-TTL:PT1H
BEGIN:VTIMEZONE
TZID:America/Denver
BEGIN:DAYLIGHT
TZOFFSETFROM:-0700
TZOFFSETTO:-0600
TZNAME:MDT
DTSTART:20250309T090000
END:DAYLIGHT
BEGIN:STANDARD
TZOFFSETFROM:-0600
TZOFFSETTO:-0700
TZNAME:MST
DTSTART:20251102T080000
END:STANDARD
BEGIN:DAYLIGHT
TZOFFSETFROM:-0700
TZOFFSETTO:-0600
TZNAME:MDT
DTSTART:20260308T090000
END:DAYLIGHT
BEGIN:STANDARD
TZOFFSETFROM:-0600
TZOFFSETTO:-0700
TZNAME:MST
DTSTART:20261101T080000
END:STANDARD
BEGIN:DAYLIGHT
TZOFFSETFROM:-0700
TZOFFSETTO:-0600
TZNAME:MDT
DTSTART:20270314T090000
END:DAYLIGHT
BEGIN:STANDARD
TZOFFSETFROM:-0600
TZOFFSETTO:-0700
TZNAME:MST
DTSTART:20271107T080000
END:STANDARD
END:VTIMEZONE
BEGIN:VEVENT
DTSTART;TZID=America/Denver:20260321T090000
DTEND;TZID=America/Denver:20260321T123000
DTSTAMP:20260423T091737
CREATED:20260211T180028Z
LAST-MODIFIED:20260318T004433Z
UID:10000227-1774083600-1774096200@womensadventureclub.org
SUMMARY:Three Sisters\, Dedisse & Hidden Fawn Trail Hike
DESCRIPTION:Get ready for a longer\, adventure-filled day on the trails! We’ll be exploring the beautiful Three Sisters\, Dedisse\, and Hidden Fawn out and back trail in Dedisse Park—a scenic 6.4-mile hike packed with variety\, views\, and a little challenge to keep things interesting. \nOne of the highlights is Brothers Lookout\, where we’ll pause to take in sweeping views of the lake and surrounding mountains. Along the way\, enjoy shaded stretches beneath the trees\, fascinating rock formations\, and peaceful forest scenery. Keep your eyes and ears open—you might spot elk\, marmots\, or a variety of birds\, and you may even hear the cheerful chorus of frogs near the marshy areas.\This trail offers a mix of terrain\, including rocky sections\, exposed roots\, some narrow spots\, and steady climbs that will get your heart pumping. It’s a rewarding hike with spectacular scenery throughout. \nTrail Details: \n\nDistance: 6.4 miles\nElevation Gain: ~1\,000 feet\nDifficulty: Moderate to moderately challenging\nTerrain: Rocky sections\, roots\, shaded forest\, and some steep climbs\n\nWhat to Bring: \n\nPlenty of water and Snacks\nSturdy hiking shoes\nMicrospikes in winter for added traction\n\nParking can fill up quickly\, so plan to arrive early if you’re meeting us at the trailhead. Or use the carpool option below: \nCarpool: Meet at Mike’s Bikes Highlands Ranch (2030 E County Line Rd\, Highlands Ranch\, CO 80126) promptly leaving at 7:45am. \nTrail Guides: Alison Cagaanan 281-382-4582 and Kelly Phillips 720-231-6443
URL:https://womensadventureclub.org/event/hike-three-sisters-dedisse-hidden-fawn/
LOCATION:Three sisters\, Dedisse\, Hidden Fawn\, Dedisse Park parking\, Evergreen\, 80439\, United States
CATEGORIES:Adventures
ATTACH;FMTTYPE=image/jpeg:https://womensadventureclub.org/wp-content/uploads/2026/02/Three-sisters.jpg
END:VEVENT
END:VCALENDAR