BEGIN:VCALENDAR
VERSION:2.0
PRODID:-//The Women&#039;s Adventure Club - ECPv6.15.20//NONSGML v1.0//EN
CALSCALE:GREGORIAN
METHOD:PUBLISH
X-WR-CALNAME:The Women&#039;s Adventure Club
X-ORIGINAL-URL:https://womensadventureclub.org
X-WR-CALDESC:Events for The Women&#039;s Adventure Club
REFRESH-INTERVAL;VALUE=DURATION:PT1H
X-Robots-Tag:noindex
X-PUBLISHED-TTL:PT1H
BEGIN:VTIMEZONE
TZID:America/Denver
BEGIN:DAYLIGHT
TZOFFSETFROM:-0700
TZOFFSETTO:-0600
TZNAME:MDT
DTSTART:20250309T090000
END:DAYLIGHT
BEGIN:STANDARD
TZOFFSETFROM:-0600
TZOFFSETTO:-0700
TZNAME:MST
DTSTART:20251102T080000
END:STANDARD
BEGIN:DAYLIGHT
TZOFFSETFROM:-0700
TZOFFSETTO:-0600
TZNAME:MDT
DTSTART:20260308T090000
END:DAYLIGHT
BEGIN:STANDARD
TZOFFSETFROM:-0600
TZOFFSETTO:-0700
TZNAME:MST
DTSTART:20261101T080000
END:STANDARD
BEGIN:DAYLIGHT
TZOFFSETFROM:-0700
TZOFFSETTO:-0600
TZNAME:MDT
DTSTART:20270314T090000
END:DAYLIGHT
BEGIN:STANDARD
TZOFFSETFROM:-0600
TZOFFSETTO:-0700
TZNAME:MST
DTSTART:20271107T080000
END:STANDARD
END:VTIMEZONE
BEGIN:VEVENT
DTSTART;TZID=America/Denver:20260412T090000
DTEND;TZID=America/Denver:20260412T110000
DTSTAMP:20260423T091743
CREATED:20260329T201547Z
LAST-MODIFIED:20260329T225910Z
UID:10000240-1775984400-1775991600@womensadventureclub.org
SUMMARY:Free Mountain Bike Skills Preview at Two Bridges\, Bayou Gulch
DESCRIPTION:Have you been thinking about trying our Mountain Bike Training—even just a little? This is your chance to check it out in a fun\, no-pressure environment! \nJoin us for a FREE Sunday event where you can meet our coach\, learn a few basic skills\, and get a feel for what the training is all about. Not sure about committing yet? Perfect—this is your opportunity to try it out first. \nAnd if you’re not considering the training at all—no problem! Everyone is welcome to come ride\, learn\, and enjoy time on the trails with an awesome group of women. \nWe’ll meet at Bayou Gulch Open Space\, a great spot for beginner riders and those with some experience. Coach Anne Sand and Assistant Liz Konley will start with a few foundational skills in the parking lot\, then once everyone feels comfortable\, we’ll head out for an easy\, confidence-building ride on the trail. \nThis is a great chance to: \n\nBuild confidence on your bike\nAsk questions about gear and technique\nMeet the coach and community\nGet a sneak peek before committing to training\n\nBecause let’s be honest… who doesn’t love trying something before diving in? \nAbout the Program\nThe Women’s Adventure Club specializes in team-based fitness\, bringing women together through adventure\, community\, and personal growth. Our mountain biking program is designed for all fitness and experience levels—whether you’re brand new or looking to sharpen your skills. No pressure on speed—just come ready to learn\, grow\, and have fun. \nWhat to Bring: \n\nMountain bike in good working order (need one? Reach out to the coach or assistant – contact information will be displayed after you register!)\nHelmet (required)\nSturdy closed-toe shoes\nWater and snacks\nEye protection (sunglasses or riding glasses)\nSunscreen\nBiking gloves (optional but recommended)\nKnee and elbow pads (optional)\n\nLearn more about the full training program:\nhttps://womensadventureclub.org/mountain-biking/
URL:https://womensadventureclub.org/event/free-mtb-skills-preview-at-bayou-gulch/
LOCATION:Two Bridges at Bayou Gulch\, 8111 Bayou Gulch Rd\, Parker\, CO\, 80134\, United States
CATEGORIES:Adventures
ATTACH;FMTTYPE=image/jpeg:https://womensadventureclub.org/wp-content/uploads/2026/03/509496868_10161977100963380_8377903811353724097_n.jpg
END:VEVENT
END:VCALENDAR