BEGIN:VCALENDAR
VERSION:2.0
PRODID:-//The Women&#039;s Adventure Club - ECPv6.15.20//NONSGML v1.0//EN
CALSCALE:GREGORIAN
METHOD:PUBLISH
X-ORIGINAL-URL:https://womensadventureclub.org
X-WR-CALDESC:Events for The Women&#039;s Adventure Club
REFRESH-INTERVAL;VALUE=DURATION:PT1H
X-Robots-Tag:noindex
X-PUBLISHED-TTL:PT1H
BEGIN:VTIMEZONE
TZID:America/Denver
BEGIN:DAYLIGHT
TZOFFSETFROM:-0700
TZOFFSETTO:-0600
TZNAME:MDT
DTSTART:20250309T090000
END:DAYLIGHT
BEGIN:STANDARD
TZOFFSETFROM:-0600
TZOFFSETTO:-0700
TZNAME:MST
DTSTART:20251102T080000
END:STANDARD
BEGIN:DAYLIGHT
TZOFFSETFROM:-0700
TZOFFSETTO:-0600
TZNAME:MDT
DTSTART:20260308T090000
END:DAYLIGHT
BEGIN:STANDARD
TZOFFSETFROM:-0600
TZOFFSETTO:-0700
TZNAME:MST
DTSTART:20261101T080000
END:STANDARD
BEGIN:DAYLIGHT
TZOFFSETFROM:-0700
TZOFFSETTO:-0600
TZNAME:MDT
DTSTART:20270314T090000
END:DAYLIGHT
BEGIN:STANDARD
TZOFFSETFROM:-0600
TZOFFSETTO:-0700
TZNAME:MST
DTSTART:20271107T080000
END:STANDARD
END:VTIMEZONE
BEGIN:VEVENT
DTSTART;TZID=America/Denver:20260513T080000
DTEND;TZID=America/Denver:20260513T123000
DTSTAMP:20260423T104821
CREATED:20260403T143309Z
LAST-MODIFIED:20260418T184225Z
UID:10000242-1778659200-1778675400@womensadventureclub.org
SUMMARY:Hike at Chimney Gulch and Lookout Mountain Trail
DESCRIPTION:Ready for a challenge with incredible payoff? Join us for a 6.9-mile hike on the Chimney Gulch and Lookout Mountain Trail\, featuring a steady climb with 1\,741 feet of elevation gain. This is definitely a hike that will get your heart pumping—but the views make every step worth it! \nAs we make our way up\, we’ll be rewarded with spectacular views of Golden and the Front Range\, along with a beautifully maintained trail that winds through classic Colorado foothill terrain. Expect a mix of steady climbing\, scenic overlooks\, and a strong sense of accomplishment at the top. \nThis trail is not for the faint of heart\, but perfect for those looking to push themselves and enjoy a rewarding\, high-energy hike. \nTrail Details: \n\nDifficulty: Challenging \nDistance: 6.9 miles\nElevation Gain: 1\,741 feet\n\nWhat to Expect: \n\nContinuous elevation gain with some steeper sections\nWell-maintained trail with stunning views throughout\nMultiple crossings of Lookout Mountain Road\nShared trail with mountain bikers—please stay aware and yield as needed\n\nWhat to Bring: \n\nPlenty of water and snacks\nSturdy hiking shoes\nSun protection\nLayers for changing conditions\n\nCome ready to climb\, take in the views\, and enjoy a rewarding day on the trail with a great group! \nTrail Guides: Robin Lythgoe and Kelly Phillips
URL:https://womensadventureclub.org/event/hike-at-chimney-gulch/
LOCATION:Chimney Gulch Lookout Mountain\, Golden\, 80401\, United States
CATEGORIES:Adventures
ATTACH;FMTTYPE=image/jpeg:https://womensadventureclub.org/wp-content/uploads/2026/04/Chimney-Gulch.jpg
END:VEVENT
END:VCALENDAR