BEGIN:VCALENDAR
VERSION:2.0
PRODID:-//The Women&#039;s Adventure Club - ECPv6.15.20//NONSGML v1.0//EN
CALSCALE:GREGORIAN
METHOD:PUBLISH
X-WR-CALNAME:The Women&#039;s Adventure Club
X-ORIGINAL-URL:https://womensadventureclub.org
X-WR-CALDESC:Events for The Women&#039;s Adventure Club
REFRESH-INTERVAL;VALUE=DURATION:PT1H
X-Robots-Tag:noindex
X-PUBLISHED-TTL:PT1H
BEGIN:VTIMEZONE
TZID:America/Denver
BEGIN:DAYLIGHT
TZOFFSETFROM:-0700
TZOFFSETTO:-0600
TZNAME:MDT
DTSTART:20250309T090000
END:DAYLIGHT
BEGIN:STANDARD
TZOFFSETFROM:-0600
TZOFFSETTO:-0700
TZNAME:MST
DTSTART:20251102T080000
END:STANDARD
BEGIN:DAYLIGHT
TZOFFSETFROM:-0700
TZOFFSETTO:-0600
TZNAME:MDT
DTSTART:20260308T090000
END:DAYLIGHT
BEGIN:STANDARD
TZOFFSETFROM:-0600
TZOFFSETTO:-0700
TZNAME:MST
DTSTART:20261101T080000
END:STANDARD
BEGIN:DAYLIGHT
TZOFFSETFROM:-0700
TZOFFSETTO:-0600
TZNAME:MDT
DTSTART:20270314T090000
END:DAYLIGHT
BEGIN:STANDARD
TZOFFSETFROM:-0600
TZOFFSETTO:-0700
TZNAME:MST
DTSTART:20271107T080000
END:STANDARD
END:VTIMEZONE
BEGIN:VEVENT
DTSTART;TZID=America/Denver:20260308T133000
DTEND;TZID=America/Denver:20260308T153000
DTSTAMP:20260423T120544
CREATED:20260102T015238Z
LAST-MODIFIED:20260119T005331Z
UID:10000218-1772976600-1772983800@womensadventureclub.org
SUMMARY:Finding Joy Through Mindset & Movement
DESCRIPTION:Featured Speaker: Jill Bill\nSpeaker\, Author\, Co-Founder of The Bougie Life Games. \nDiscover how meaningful transformation can be fun\, playful\, and deeply empowering. Join Jill Bill\, dynamic speaker and entrepreneur\, for an interactive seminar that explores mindset shifts\, habit change\, and the power of joy in supporting mental health. Drawing on her personal journey of overcoming grief\, losing over 100 pounds\, and building a life of intentional joy\, Jill shares practical strategies to help women reset\, reconnect\, and reclaim their lives—one bold step at a time.
URL:https://womensadventureclub.org/event/finding-joy-through-mindset-movement/
LOCATION:Highlands Ranch Library Event Hall A/B\, 9292 Ridgeline Blvd\, Highlands Ranch\, CO\, 80129\, United States
CATEGORIES:Mental Health Education
ATTACH;FMTTYPE=image/jpeg:https://womensadventureclub.org/wp-content/uploads/2026/01/Jill-Bill-020_pp-2-1-scaled.jpg
END:VEVENT
END:VCALENDAR