BEGIN:VCALENDAR
VERSION:2.0
PRODID:-//The Women&#039;s Adventure Club - ECPv6.15.20//NONSGML v1.0//EN
CALSCALE:GREGORIAN
METHOD:PUBLISH
X-ORIGINAL-URL:https://womensadventureclub.org
X-WR-CALDESC:Events for The Women&#039;s Adventure Club
REFRESH-INTERVAL;VALUE=DURATION:PT1H
X-Robots-Tag:noindex
X-PUBLISHED-TTL:PT1H
BEGIN:VTIMEZONE
TZID:America/Denver
BEGIN:DAYLIGHT
TZOFFSETFROM:-0700
TZOFFSETTO:-0600
TZNAME:MDT
DTSTART:20230312T090000
END:DAYLIGHT
BEGIN:STANDARD
TZOFFSETFROM:-0600
TZOFFSETTO:-0700
TZNAME:MST
DTSTART:20231105T080000
END:STANDARD
BEGIN:DAYLIGHT
TZOFFSETFROM:-0700
TZOFFSETTO:-0600
TZNAME:MDT
DTSTART:20240310T090000
END:DAYLIGHT
BEGIN:STANDARD
TZOFFSETFROM:-0600
TZOFFSETTO:-0700
TZNAME:MST
DTSTART:20241103T080000
END:STANDARD
BEGIN:DAYLIGHT
TZOFFSETFROM:-0700
TZOFFSETTO:-0600
TZNAME:MDT
DTSTART:20250309T090000
END:DAYLIGHT
BEGIN:STANDARD
TZOFFSETFROM:-0600
TZOFFSETTO:-0700
TZNAME:MST
DTSTART:20251102T080000
END:STANDARD
BEGIN:DAYLIGHT
TZOFFSETFROM:-0700
TZOFFSETTO:-0600
TZNAME:MDT
DTSTART:20260308T090000
END:DAYLIGHT
BEGIN:STANDARD
TZOFFSETFROM:-0600
TZOFFSETTO:-0700
TZNAME:MST
DTSTART:20261101T080000
END:STANDARD
BEGIN:DAYLIGHT
TZOFFSETFROM:-0700
TZOFFSETTO:-0600
TZNAME:MDT
DTSTART:20270314T090000
END:DAYLIGHT
BEGIN:STANDARD
TZOFFSETFROM:-0600
TZOFFSETTO:-0700
TZNAME:MST
DTSTART:20271107T080000
END:STANDARD
END:VTIMEZONE
BEGIN:VEVENT
DTSTART;TZID=America/Denver:20260403T093000
DTEND;TZID=America/Denver:20260404T160000
DTSTAMP:20260423T105139
CREATED:20251201T023433Z
LAST-MODIFIED:20251202T201220Z
UID:10000205-1775208600-1775318400@womensadventureclub.org
SUMMARY:Tennessee Pass - Overnight Yurt Trip
DESCRIPTION:Ready for a winter getaway you’ll never forget? Join us for a magical overnight stay in a rustic backcountry yurt at Tennessee Pass! This adventure blends snowy fun\, mountain serenity\, and warm camaraderie—all in one unforgettable experience. \nYou’ll enjoy:Snowshoeing through serene\, snow-covered forestsNordic skiing on beautifully groomed trailsOvernight lodging in a charming\, heated yurt with shared full size beds (grab your bestie to join in on the fun!)A chef-prepared gourmet dinner (and all gratuities) on Friday night at the famous Tennessee Pass Cookhouse\nBreakfast and lunch on Saturday and of course\, all the snacks\nTrail Pass for nordic skiing/snowshoeing\nCross-country skis and boot rental\nRound-trip transportation \nWe will depart the Parker area around 9:30am on Friday and return by 4pm on Saturday. \nWhether you’re a seasoned winter adventurer or trying something new\, this quick trip offers the perfect blend of activity and nature. Spots are limited!  Treat yourself to a soul-filling mountain escape with an amazing group of women!
URL:https://womensadventureclub.org/event/tennessee-pass-overnight-yurt-trip/
LOCATION:Tennessee Pass Cookhouse & Nordic Center\, E. Tennessee Rd.\, Leadville\, CO\, 80461\, United States
CATEGORIES:Special Events
ATTACH;FMTTYPE=image/jpeg:https://womensadventureclub.org/wp-content/uploads/2025/11/Sold-out.jpeg
END:VEVENT
BEGIN:VEVENT
DTSTART;TZID=America/Denver:20260222T150000
DTEND;TZID=America/Denver:20260222T163000
DTSTAMP:20260423T105139
CREATED:20251202T200521Z
LAST-MODIFIED:20260219T171305Z
UID:10000206-1771772400-1771777800@womensadventureclub.org
SUMMARY:Pickleball (Indoor)
DESCRIPTION:Ready to play\, laugh\, and get your heart pumping? Join us for an afternoon of “bump up / bump down” pickleball fun at the Parker Racquet Club! This energetic\, social style of play keeps everyone moving and mixing\, and it’s perfect for all skill levels — from brand-new beginners to seasoned smashers.  While the play starts at 3pm\, come at 2:30 if you need a pickleball tutorial! \nBring your paddle\, a little hydration\, and your game face! Don’t have a paddle? No worries — we’ll have extras available. Just show up ready to rally\, meet new friends\, and enjoy a lively afternoon on the courts. \nIf you are not familiar with the bump up/bump down play\, here is a little more info: \nBump Up / Bump Down pickleball is a fun\, fast-paced\, social style of open play that keeps games moving and helps players mix with different partners and skill levels. Here’s how it works: \n\nAll players are divided across several courts.\nAfter one team finishes\, results determine where you go next based on your current score:\n\nWinners “bump up” to the next higher court.\nLosers “bump down” to the next lower court.\n\n\nOn each new court\, players switch partners so everyone plays with a variety of people.\n\n 
URL:https://womensadventureclub.org/event/pickleball/
LOCATION:Parker Raquet Club\, 18396 Plaza Drive\, Parker\, CO\, 80134\, United States
CATEGORIES:Special Events
ATTACH;FMTTYPE=image/jpeg:https://womensadventureclub.org/wp-content/uploads/2025/12/Image-49.jpeg
END:VEVENT
BEGIN:VEVENT
DTSTART;TZID=America/Denver:20260124T053000
DTEND;TZID=America/Denver:20260124T160000
DTSTAMP:20260423T105139
CREATED:20251116T190649Z
LAST-MODIFIED:20251204T204044Z
UID:10000204-1769232600-1769270400@womensadventureclub.org
SUMMARY:Nordic Ski & Tubing Day Trip
DESCRIPTION:Get ready for a winter wonderland adventure in Frisco! \nCrisp mountain air\, snow-covered peaks\, and the perfect mix of exhilarating fun and cozy camaraderie. At Frisco Adventure Park\, we’ll glide (cross-country ski) across pristine Nordic trails\, taking in the peaceful beauty of the Rockies. Then we’ll crank up the energy with high-speed tubing down perfectly groomed hills! \nJoin us for this unforgettable day trip to Frisco! We’ll meet at 5:30 AM to carpool and return around 4:00 PM. Your registration includes everything you need for a full day of adventure: a cross-country trail pass\, Nordic ski gear\, tubing gear\, tubing time\, and transportation. Just dress warmly and pack your own lunch! \nA detailed packing list will be shared with all registrants a few weeks before the event so you feel fully prepared. \nWhether you’re brand new to skiing or already confident on Nordic trails\, this trip is designed for you! \n\n$140 – No Lesson: Ideal for experienced skiers who want to hit the trails right away.\n$180 – With Lesson: Perfect for beginners or anyone who’d like guidance to build skills and confidence.\n\nDon’t miss your chance to embrace the snow\, connect with great people\, and make winter memories that will stick with you all season long! \nLevel 1: Easy
URL:https://womensadventureclub.org/event/nordic-ski-tubing-day-trip-2/
LOCATION:At Home\, 8585 S Yosemite St\, Lone Tree\, 80124\, United States
CATEGORIES:Special Events
ATTACH;FMTTYPE=image/jpeg:https://womensadventureclub.org/wp-content/uploads/2025/11/Sold-out-2.jpeg
END:VEVENT
BEGIN:VEVENT
DTSTART;VALUE=DATE:20250926
DTEND;VALUE=DATE:20250929
DTSTAMP:20260423T105139
CREATED:20250625T174516Z
LAST-MODIFIED:20250724T032744Z
UID:10000165-1758844800-1759103999@womensadventureclub.org
SUMMARY:Ouray - A Golden Retreat
DESCRIPTION:Grab your flannels and your friends—Ouray is calling!  \nSave the date – Sept 26-28\, 2025 \nWe’re heading to the mountains for a dreamy fall weekend filled with golden aspens\, crisp alpine air\, and all the cozy Colorado vibes. Think scenic hikes\, steamy soaks in the hot springs\, and strolling through the charm of historic downtown. The leaves will be showing off\, and so will we—don’t miss this peak season getaway with your favorite adventure crew! \nTrip includes: \n\n2 nights of lodging\n\nAirbnb in Ouray with shared Queen beds and shared bathrooms\n\n\nAll transportation\n\nPassenger van and driver; round trip from Parker to Ouray\n\n\nEntry into hot springs pool(s)\nFood included for the weekend\n\nFriday dinner\, snacks\nSaturday breakfast\, lunch\, dinner\, snacks\nSunday breakfast\, snacks\n\n\nWAC swag!\n\nBecause who does not love swag?!?!\n\n\n\nAdditional highlights include scenic drive on the Million Dollar Highway\, Cascade Falls (short walk)\, Lower Box Canyon Falls (short walk)\, and a hike on the Ouray Perimeter trail (5.4 miles\, 1500 ft of elevation gain – Moderate) \n  \nRegistration to open on Monday\, July 14th\, 2025 at 6:00 AM MT.
URL:https://womensadventureclub.org/event/ouray-a-golden-retreat/
LOCATION:CO
CATEGORIES:Special Events
ATTACH;FMTTYPE=image/png:https://womensadventureclub.org/wp-content/uploads/2025/06/Untitled-design-15-1-scaled-e1753327598876.png
END:VEVENT
BEGIN:VEVENT
DTSTART;TZID=America/Denver:20250816T033000
DTEND;TZID=America/Denver:20250816T160000
DTSTAMP:20260423T105139
CREATED:20250218T013014Z
LAST-MODIFIED:20250724T033103Z
UID:10000144-1755315000-1755360000@womensadventureclub.org
SUMMARY:Mt Bierstadt - Colorado 14er Hike!
DESCRIPTION:Ready to conquer one of Colorado’s most spectacular 14ers? Join us for an unforgettable sunrise adventure up Mt. Bierstadt! Picture yourself standing atop a 14\,065-foot peak as the morning sun paints the surrounding mountains in golden light. Whether you’re chasing your first 14er summit or adding another peak to your collection\, this group hike offers the perfect blend of challenge and camaraderie. Mt. Bierstadt is famous for its sweeping views of the Front Range and the satisfaction of achieving something extraordinary before most people have had their morning coffee. Plus\, you’ll be joining a group of passionate hikers who share your sense of adventure—there’s nothing quite like celebrating at the summit with newfound friends! We will carpool from Sportsman’s Warehouse in Parker with a departure time of 3:30 AM SHARP! (Transportation cost included in registration fees.) Bring your own snacks for the climb up\, and after our adventure\, we’ll celebrate with lunch together at a restaurant before heading home. Are you in? \nRound Trip Hiking Distance: 7.5 miles\nElevation Gain: 2\,850 feet\nSummit Elevation: 14\,065 feet \nThe 14er special event is not beginner-friendly and requires participants to have prior hiking experience. To join\, you must be able to hike 7+ miles at high elevation\, maintain a steady pace on steep terrain\, and feel comfortable navigating rocky conditions and exposure. Good balance and coordination are essential\, as the route may include boulder fields. Safety is our top priority. This is a high-altitude adventure with real risks\, and all participants must be prepared for the challenges of the terrain and weather conditions. A strict turn-around time of 12:00 PM will be enforced\, regardless of summit status\, to ensure a safe descent. Additionally\, our leaders reserve the right to turn away participants who appear unprepared or unable to complete the hike safely. \nEvent Sponsor:
URL:https://womensadventureclub.org/event/mt-bierstadt-colorado-14er-hike/
LOCATION:Sportsmans Warehouse\, 18420 Cottonwood Dr\, Parker\, CO 80138\, Parker\, CO\, 80138\, United States
CATEGORIES:Special Events
ATTACH;FMTTYPE=image/png:https://womensadventureclub.org/wp-content/uploads/2025/02/Untitled-design-14-scaled-e1753327823838.png
END:VEVENT
BEGIN:VEVENT
DTSTART;VALUE=DATE:20250725
DTEND;VALUE=DATE:20250728
DTSTAMP:20260423T105139
CREATED:20250423T013704Z
LAST-MODIFIED:20250625T174859Z
UID:10000149-1753401600-1753660799@womensadventureclub.org
SUMMARY:Crested Butte to Aspen Hiking Weekend
DESCRIPTION:Crested Butte to Aspen Hiking Weekend\nAn unforgettable wildflower-season trek through Colorado’s most iconic alpine pass. \nReady to cross this bucket list hike off your list? Join our women’s hiking crew for a weekend adventure from Crested Butte to Aspen\, featuring stunning mountain views\, peak wildflower season\, and a seriously rewarding challenge. \nThis 12-mile hike starts in Crested Butte and takes you through the breathtaking West Maroon Pass\, climbing over 2\,500 feet in elevation and ending at the iconic Maroon Bells near Aspen. But don’t worry about the logistics — we’ve got everything covered so you can focus on the experience. \n Trip Includes:\n\n2 nights of lodging\n\n\n\n\nFriday in Crested Butte (Single twin bunk beds in dormitory style setting with shared bathroom and kitchen)\nSaturday in Glenwood Springs (in Airbnb home: shared beds may include King or Queen; single beds may include Twin or couch pull-out\, and shared bathrooms)\n\n\n\n\nAll transportation\n\n\n\n\nPassenger van and driver round trip from Parker to Crested Butte/Aspen\nRide to trailhead (14 miles from town)\nShuttle bus (RFTA with pass) from Maroon Bells to Aspen parking structure\nVan pickup in Aspen and drive to Glenwood Springs\nReturn to Parker on Sunday\n\n\n\n\nEntry to Iron Mountain Hot Springs in Glenwood Springs – bring your swimsuit\, unwind and relax post-hike!\nFood included for the weekend:\n\n\n\n\nFriday dinner\nSaturday breakfast\, trail snacks\, lunch\, and dinner\nSunday breakfast\n\n\n\n*Friday lunch and Sunday lunch will be paid for by the participant – we will stop on our drive to/from locations. You are also welcome to pack and bring your lunch along. \n\nWAC swag! Because you earned it.\n\nThis trip is all about letting go of the planning and embracing the adventure. Logistics are notoriously complex for this route — leave the transportation\, lodging\, meals\, and shuttle coordination to us. \nAll you have to do is bring your hiking boots\, your grit\, and your love for the trail. \n Who Should Sign Up:\nThis trip is for experienced hikers only. Please be confident in your ability to hike almost 12 miles at altitude with significant elevation gain. You’ll be part of a strong\, supportive team of 8 women who are up for a true alpine challenge.  There is no cell service or turnaround points\, so please ensure you are up for the challenge.  We will have a GPS radio in case of emergency only. \n Space is limited – grab your spot now and let us handle the rest!\nLet’s make some mountain magic.  \nSpecial Event Sponsor:
URL:https://womensadventureclub.org/event/crested-butte-to-aspen-hiking-weekend/
LOCATION:CO
CATEGORIES:Special Events
ATTACH;FMTTYPE=image/png:https://womensadventureclub.org/wp-content/uploads/2025/04/Untitled-design-21-scaled-e1750873691868.png
END:VEVENT
BEGIN:VEVENT
DTSTART;TZID=America/Denver:20250621T070000
DTEND;TZID=America/Denver:20250621T150000
DTSTAMP:20260423T105139
CREATED:20250217T152256Z
LAST-MODIFIED:20250524T161247Z
UID:10000143-1750489200-1750518000@womensadventureclub.org
SUMMARY:White Water Rafting Trip
DESCRIPTION:Adventure Awaits on Clear Creek! Get ready for the thrill of a lifetime as we conquer the rapids of Clear Creek with Colorado’s premier rafting experience! Join us for an unforgettable intermediate rafting adventure that perfectly balances excitement with accessibility. We will be taking a heart-pumping journey through Class III and IV rapids in Idaho Springs\, guided by Clear Creek Rafting Company’s expert team. Experience the rush of Clear Creek’s rapids with friends\, navigating thrilling waters while taking in Colorado’s stunning scenery. We will carpool from Sportsman’s Warehouse in Parker with a departure time of 7:00am \nWhat’s Included: \n\nAll rafting fees and gratuities\nProfessional guide\nAll essential safety gear (wetsuits\, splash jackets\, helmets\, and life jackets)\nComplimentary digital photos to capture your adventure\nTransportation to and from the rafting site\n\nEvent Sponsor: 
URL:https://womensadventureclub.org/event/white-water-rafting-trip/
LOCATION:Sportsmans Warehouse\, 18420 Cottonwood Dr\, Parker\, CO 80138\, Parker\, CO\, 80138\, United States
CATEGORIES:Special Events
ATTACH;FMTTYPE=image/jpeg:https://womensadventureclub.org/wp-content/uploads/2025/02/gf53422e9fffe09dc70ca131437b520d79925d9a3bc3c296b7a740ad31c568f29ce1b530bd1266559f8ef8bc748f7e3ca_1280-421132.jpg
END:VEVENT
BEGIN:VEVENT
DTSTART;TZID=America/Denver:20250426T100000
DTEND;TZID=America/Denver:20250426T123000
DTSTAMP:20260423T105139
CREATED:20250210T171055Z
LAST-MODIFIED:20250425T160301Z
UID:10000141-1745661600-1745670600@womensadventureclub.org
SUMMARY:Indoor Rock Climbing
DESCRIPTION:Experience the thrill of indoor climbing in this exciting 2-hour session! Whether you’re a first-timer or an experienced climber\, our certified instructors will help you challenge yourself and develop your skills.  Movement Centennial is a place for people to come together and share their passion for adventure through climbing and fitness. The facility has 28\,000+ square-feet of climbing with 105 climbing routes and walls topping out at 55 feet…and of course\, tons of parking. You can even try bouldering if you are looking for an additional challenge!  Your event fee pays for a full day pass\, so you are welcome to stay after our instructor-led session or return later in the day.  Movement Centennial is conveniently located near the Denver Tech Center (and IKEA!) across from Park Meadows Mall\, so a carpool option will not be required. \nWith great climbs\, private climbing areas\, and expert instructors\, our climbing event at Movement will give you new skills\, a restored sense of adventure\, and incredible stories to share! This is a great opportunity to get out of your comfort zone and try something new with other women who are there to support you. \nImportant Details: \n\nPlease arrive at 10:00 AM for a mandatory safety briefing\nEquipment rental included\nAll skill levels welcome\nProfessional instruction\nClimate-controlled facility\nWear comfortable athletic clothing\nBring water and your own snacks\n\nReserve your spot today! \nGet ready for an amazing climbing experience!
URL:https://womensadventureclub.org/event/indoor-rock-climbing/
LOCATION:Movement Centennial\, 9657 E County Line Road\, Centennial\, CO\, 80112\, United States
CATEGORIES:Special Events
ATTACH;FMTTYPE=image/webp:https://womensadventureclub.org/wp-content/uploads/2025/02/fa67b316-52f3-4806-8442-681f1ebe2a79_large-e1742922833567.webp
END:VEVENT
BEGIN:VEVENT
DTSTART;TZID=America/Denver:20250308T070000
DTEND;TZID=America/Denver:20250308T160000
DTSTAMP:20260423T105139
CREATED:20250121T205814Z
LAST-MODIFIED:20250306T161654Z
UID:10000128-1741417200-1741449600@womensadventureclub.org
SUMMARY:Snowshoe Day Trip at Rocky Mountain National Park
DESCRIPTION:Join the Women’s Adventure Club for an unforgettable snowshoeing adventure in Rocky Mountain National Park on Saturday\, March 8th! This trip is perfect for both seasoned snowshoe enthusiasts and beginners eager to try something new. We’ll meet at 6:45 am to carpool from At Home (8585 S Yosemite St.\, Lone Tree)\, departing promptly at 7:00 a.m. and returning between 3–4 p.m. The cost is $60\, which includes transportation and park entry\, and the specific trail will be chosen closer to the date based on conditions. \nHead to the main Special Events page for more descriptions of the activity levels. Be sure to bring your own snowshoes\, plenty of hydration\, snacks\, and a packed lunch to enjoy amidst the stunning winter scenery. Don’t miss this opportunity to experience the magic of RMNP in winter—reserve your spot today\, as spaces are limited to 20 spots. Let’s make March 8th a day to remember! \n\nLevel 2: Moderate\n\n  \n  \n 
URL:https://womensadventureclub.org/event/snowshoe-day-trip-at-rocky-mountain-national-park/
LOCATION:Rocky Mountain National Park\, 1000 U.S. Highway 36\, Estes Park\, CO\, 80517\, United States
CATEGORIES:Special Events
ATTACH;FMTTYPE=image/png:https://womensadventureclub.org/wp-content/uploads/2025/01/Screenshot-2025-01-21-132005.png
END:VEVENT
BEGIN:VEVENT
DTSTART;TZID=America/Denver:20250222T070000
DTEND;TZID=America/Denver:20250222T160000
DTSTAMP:20260423T105139
CREATED:20241201T044642Z
LAST-MODIFIED:20250121T234714Z
UID:10000107-1740207600-1740240000@womensadventureclub.org
SUMMARY:Nordic Ski & Tubing Day Trip
DESCRIPTION:Get ready for a winter wonderland adventure in Frisco! Picture this: crisp mountain air\, snow-covered peaks\, and the perfect balance of thrilling fun and cozy camaraderie. At Frisco Adventure Park\, we’ll glide across pristine trails on cross-country skis\, soaking in the serenity of the Rockies. Afterward\, we’ll kick up the excitement with some high-speed tubing down perfectly groomed hills\, laughter echoing with every slide. This day-trip promises unforgettable moments and plenty of snowy fun. \nJoin us for an unforgettable day trip to Frisco! We’ll meet at 7:00 AM to carpool and return around 4:00 PM. Your registration includes everything you need for an adventure-packed day: a cross-country trail pass\, Nordic ski and tubing gear\, tubing fun\, and transportation.  Just dress warm and bring your own lunch! \nA detailed packing list will be sent to all registrants a few weeks before the event to ensure you’re fully prepared. \nWhether you’re a first-time skier or a seasoned pro\, this trip is for you! If you’re new to Nordic skiing\, we highly recommend selecting the lessons option. Experienced skiers can simply choose the “No Lesson” option during checkout. Don’t miss this chance to embrace the snow\, connect with others\, and create lasting memories! \nLevel 1: Easy
URL:https://womensadventureclub.org/event/nordic-ski-tubing-day-trip/
LOCATION:Sportsmans Warehouse\, 18420 Cottonwood Dr\, Parker\, CO 80138\, Parker\, CO\, 80138\, United States
CATEGORIES:Special Events
ATTACH;FMTTYPE=image/jpeg:https://womensadventureclub.org/wp-content/uploads/2024/11/Capture-e1737502748463.jpg
END:VEVENT
BEGIN:VEVENT
DTSTART;VALUE=DATE:20240927
DTEND;VALUE=DATE:20240930
DTSTAMP:20260423T105139
CREATED:20240625T004946Z
LAST-MODIFIED:20240702T024404Z
UID:10000019-1727395200-1727654399@womensadventureclub.org
SUMMARY:Weekend Getaway in Moab!
DESCRIPTION:Join us for an unforgettable journey through the awe-inspiring Canyonlands and Arches National Parks. Imagine trekking through ancient canyons\, marveling at towering arches carved by nature’s hand\, and experiencing the magic of a sunset hike to the iconic Delicate Arch. This adventure isn’t just about exploring nature—it’s about forging connections with like-minded women who share your passion for outdoor exploration. Bond over shared meals\, laughter around the campfire\, and stories under the starlit desert sky. We will be hiking Delicate Arch at sunset\, Double O Arch at sunrise\, and exploring Arches National Park\, Canyonlands National Park\, and Grandview Point Trail.  Forget the logistics—we’ve got you covered! All meals\, gas\, and cozy lodging are included\, so you can focus on soaking in every moment of this immersive experience. Spaces are limited\, so seize this opportunity to embark on an adventure that promises breathtaking views\, new friendships\, and memories to last a lifetime. Don’t wait—reserve your spot today and get ready to discover the magic of Moab with an incredible group of women!
URL:https://womensadventureclub.org/event/weekend-getaway-in-moab/
LOCATION:Moab\, Utah\, UT\, 84532\, United States
CATEGORIES:Special Events
ATTACH;FMTTYPE=image/jpeg:https://womensadventureclub.org/wp-content/uploads/2024/04/99-e1712255396804.jpg
END:VEVENT
BEGIN:VEVENT
DTSTART;TZID=America/Denver:20240915T160000
DTEND;TZID=America/Denver:20240915T180000
DTSTAMP:20260423T105139
CREATED:20240809T163547Z
LAST-MODIFIED:20240830T201947Z
UID:10000055-1726416000-1726423200@womensadventureclub.org
SUMMARY:Round Robin Pickleball
DESCRIPTION:Join us for a 2 hour Round Robin of Pickleball!  You’ll partner with and play against a variety of WAC members of similar ability.  Games are timed\, with both a partner and opponent switch at the sound of the buzzer. If this is your first time playing\, WELCOME! There are plenty of beginner players and we are happy to teach you how to play. Bring your own paddles. WAC will provide the balls. Because this is a round robin\, it is REALLY important that you attend when you sign up\, as any no-shows disturb the entire tournament flow. If you register and are unable to come\, you are responsible for finding your own replacement. Our last pickleball event was a huge success – we can’t wait to host this again!
URL:https://womensadventureclub.org/event/round-robin-pickleball/
LOCATION:Crowfoot Pickleball Courts\, 14090 Alpine Phlox St\, Parker\, CO\, 80134\, United States
CATEGORIES:Special Events
ATTACH;FMTTYPE=image/jpeg:https://womensadventureclub.org/wp-content/uploads/2024/08/442411810_10162040685953296_4271308231942195364_n.jpg
END:VEVENT
BEGIN:VEVENT
DTSTART;TZID=America/Denver:20240817T030000
DTEND;TZID=America/Denver:20240817T140000
DTSTAMP:20260423T105139
CREATED:20240614T055627Z
LAST-MODIFIED:20240630T000623Z
UID:10000002-1723863600-1723903200@womensadventureclub.org
SUMMARY:Mt Sherman Day Trip
DESCRIPTION:Although Mt Sherman is rated as one of Colorado’s easiest 14ers\, be prepared for an extensive workout to reach the top! Our guides will not only help you reach that summit\, but will help you prepare for the trip by providing your packing list\, gear recommendations\, and how to prepare you body for the climb. Your registration also covers transportation\, gas\, and lunch. Join us and check off this epic trip from your bucket list! Fun fact: Mt Sherman is the only fourteener that has had a successful aircraft landing on its summit. We do not recommend this activity if you have not been consistently hiking or otherwise exercising. Meet at 2:45am at Sportsman’s Warehouse in Parker. We leave promptly at 3:00am.
URL:https://womensadventureclub.org/event/mt-sherman-day-trip/
LOCATION:Sportsmans Warehouse\, 18420 Cottonwood Dr\, Parker\, CO 80138\, Parker\, CO\, 80138\, United States
CATEGORIES:Special Events
ATTACH;FMTTYPE=image/jpeg:https://womensadventureclub.org/wp-content/uploads/2024/03/Untitled-design-2-1.jpg
END:VEVENT
END:VCALENDAR