BEGIN:VCALENDAR
VERSION:2.0
PRODID:-//The Women&#039;s Adventure Club - ECPv6.15.20//NONSGML v1.0//EN
CALSCALE:GREGORIAN
METHOD:PUBLISH
X-ORIGINAL-URL:https://womensadventureclub.org
X-WR-CALDESC:Events for The Women&#039;s Adventure Club
REFRESH-INTERVAL;VALUE=DURATION:PT1H
X-Robots-Tag:noindex
X-PUBLISHED-TTL:PT1H
BEGIN:VTIMEZONE
TZID:America/Denver
BEGIN:DAYLIGHT
TZOFFSETFROM:-0700
TZOFFSETTO:-0600
TZNAME:MDT
DTSTART:20250309T090000
END:DAYLIGHT
BEGIN:STANDARD
TZOFFSETFROM:-0600
TZOFFSETTO:-0700
TZNAME:MST
DTSTART:20251102T080000
END:STANDARD
BEGIN:DAYLIGHT
TZOFFSETFROM:-0700
TZOFFSETTO:-0600
TZNAME:MDT
DTSTART:20260308T090000
END:DAYLIGHT
BEGIN:STANDARD
TZOFFSETFROM:-0600
TZOFFSETTO:-0700
TZNAME:MST
DTSTART:20261101T080000
END:STANDARD
BEGIN:DAYLIGHT
TZOFFSETFROM:-0700
TZOFFSETTO:-0600
TZNAME:MDT
DTSTART:20270314T090000
END:DAYLIGHT
BEGIN:STANDARD
TZOFFSETFROM:-0600
TZOFFSETTO:-0700
TZNAME:MST
DTSTART:20271107T080000
END:STANDARD
END:VTIMEZONE
BEGIN:VEVENT
DTSTART;TZID=America/Denver:20260530T090000
DTEND;TZID=America/Denver:20260530T110000
DTSTAMP:20260423T123650
CREATED:20260409T194426Z
LAST-MODIFIED:20260418T184959Z
UID:10000247-1780131600-1780138800@womensadventureclub.org
SUMMARY:Give Back to the Trails – Volunteer Day at Rock Park
DESCRIPTION:Join us for a special opportunity to give back to the trails we love! We’re partnering with Douglas County Parks\, Open Space & Trails (P.O.S.T.) for a hands-on trail maintenance day at Rock Park in Castle Rock. \nThis is a meaningful way to support the outdoor spaces we use every week—helping keep trails clear\, safe\, and enjoyable for everyone. We’ll be working together to clear overgrown sections of trail\, all while spending time outside with an amazing group of women. \nNo experience is needed—just a willingness to lend a hand and be part of something bigger!  \nWhat to Expect: \n\nAll tools and equipment will be provided\nSafety vests will be provided and must be worn during the event\nGuided support from P.O.S.T. staff\n\nImportant Guidelines: \n\nRSVP below (Contact\, location\, and parking information will be displayed after you RSVP)\nBe prepared to sign a waiver on-site or register in advance using this link\nWear closed-toe shoes (NO EXCEPTIONS)\nKeep hands free for work (zippered pockets or a backpack recommended)\nBring work gloves (if you have them)\, a hat\, sunscreen\, water\, and snacks—keeping items minimal and hands free as noted above.\nPlease stay home if you’re feeling unwell\n\nCome spend a day making a difference\, connecting with others\, and caring for the trails that give us so much. \nWAC Trail Guides: Liz Konley and Rachel Grasso
URL:https://womensadventureclub.org/event/volunteer-trail-maintenance-rock-park/
LOCATION:Rock Park\, Castle Rock\, 80104\, United States
CATEGORIES:Adventures
ATTACH;FMTTYPE=image/jpeg:https://womensadventureclub.org/wp-content/uploads/2026/04/Volunteer-trail-maintenance.jpg
END:VEVENT
BEGIN:VEVENT
DTSTART;VALUE=DATE:20260613
DTEND;VALUE=DATE:20260614
DTSTAMP:20260423T123650
CREATED:20251229T001016Z
LAST-MODIFIED:20260129T030625Z
UID:10000217-1781308800-1781395199@womensadventureclub.org
SUMMARY:White Water Rafting - Day Trip
DESCRIPTION:Adventure Awaits on Clear Creek! Get ready for the thrill of a lifetime as we conquer the rapids of Clear Creek with Colorado’s premier rafting experience! Join us for an unforgettable intermediate rafting adventure that perfectly balances excitement with accessibility. We will be taking a heart-pumping journey through Class III and IV rapids in Idaho Springs\, guided by Clear Creek Rafting Company’s expert team. Experience the rush of Clear Creek’s rapids with friends\, navigating thrilling waters while taking in Colorado’s stunning scenery. We will carpool (meeting point: At Home – Lonetree)  with a departure time of 7am! \nWhat’s Included: \n\nAll rafting fees and gratuities\nProfessional guide\nAll essential safety gear (wetsuits\, splash jackets\, helmets\, and life jackets)\nComplimentary digital photos to capture your adventure\nTransportation to and from the rafting site\n\nRegistration will open on 2/1/2026!
URL:https://womensadventureclub.org/event/white-water-rafting-day-trip/
LOCATION:Clear Creek Rafting Company\, 350 Whitewater Rd\, Idaho Springs\, 80452\, United States
CATEGORIES:Special Events
ATTACH;FMTTYPE=image/jpeg:https://womensadventureclub.org/wp-content/uploads/2025/12/Image-47.jpeg
END:VEVENT
BEGIN:VEVENT
DTSTART;TZID=America/Denver:20260614T133000
DTEND;TZID=America/Denver:20260614T153000
DTSTAMP:20260423T123650
CREATED:20260316T015608Z
LAST-MODIFIED:20260329T004222Z
UID:10000237-1781443800-1781451000@womensadventureclub.org
SUMMARY:Defeating Your Inner Bully
DESCRIPTION:We’ve all done it. We’ve all been there. “You idiot!” “Why weren’t you paying attention!” “What were you thinking!” “That was stupid\, stupid\, stupid!” We’ve yelled at ourselves and beat ourselves down.  \nAnd when we’re struggling\, this voice gets increasingly loud\, even drowning out all those positive mantras\, affirmations\, and successes we experience.Why? Because most of us have a lot of negative external (and internal) input to overcome! The inner bully is a not-so-friendly voice or feeling within us that constantly reminds us of our past mistakes or failures. Or what we don’t like about ourselves. Many up-and-coming female leaders must overcome these negative thoughts\, sometimes referred to as “imposter syndrome”\, as they advance into senior roles. In this workshop\, you’ll gain skills to: \n\nStand up to your inner bully by catching it and looking it straight in the eye.\nAcknowledge where the bully comes from\, and instead of battling it\, just hear it.\nStop letting your inner bully run what you do or don’t do.\n\nAttend this workshop to learn what your bully is saying and gain the skills to turn down its voice and regain the power in your life! \nLearning Outcomes \n\n\nDefine Imposter Syndrome & the language of your inner bully\nReview the origins of negative thoughts\nDescribe strategies to overcome negative thoughts\nAssess best practices for gaining core confidence\nIdentify methods to take back your power and find your inner warrior\n\nTheresa Byrne is a global speaker and defense expert whose fun and engaging TED Talk\, The Dangers of Your Inner Bully\, has over 850\,000 views and was named one of the Top Ten Most Meaningful TED Talks by Thrive Global Magazine. \nAs a mindset and boundary specialist\, certified Positive Intelligence coach\, and martial arts Master Instructor (with eight black belts)\, she founded InPower® to help women not only with external stressors but to quiet the inner bully\, strengthen self-trust\, and build genuine mental resilience using practical tools they can apply in real life. \nHer work combines neuroscience (she had to heal a brain injury using every available tool as if her life depended on it)\, smart strategy\, and humor to make mental strength feel attainable and fun!
URL:https://womensadventureclub.org/event/defeating-your-inner-bully-with-theresa-byrne/
LOCATION:Lone Tree Public Library\, 10055 Library Way\, Lone Tree\, CO\, 80124\, United States
CATEGORIES:Mental Health Education
ATTACH;FMTTYPE=image/webp:https://womensadventureclub.org/wp-content/uploads/2026/03/Theresa-Burne-e1773626482488.webp
END:VEVENT
BEGIN:VEVENT
DTSTART;TZID=America/Denver:20260711T073000
DTEND;TZID=America/Denver:20260711T143000
DTSTAMP:20260423T123650
CREATED:20260325T024728Z
LAST-MODIFIED:20260325T024728Z
UID:10000235-1783755000-1783780200@womensadventureclub.org
SUMMARY:Treehouse Adventure Park
DESCRIPTION:Ready to Reach New Heights? Ready to swap the pavement for the pines? \n\nJoin us for a Treetop Adventure!\n  \nWhether you’re a seasoned climber or someone who usually keeps their feet firmly on the ground\, this is your chance to experience the forest from a whole new perspective. Imagine a world of “Ewok Villages” and “Swiss Family Robinson” style treehouses suspended 20 to 40 feet in the air—that is exactly what’s waiting for us. \nThe Adventure Awaits: We’ve reserved 3 hours of adventure time\, giving you plenty of space to find your “forest legs.” Your experience begins with “Ground School\,” where friendly expert guides will get you geared up and teach you the ropes (literally!). \nOnce you’re certified\, the sky is the limit. You’ll have full access to: \n\n8+ Unique Aerial Courses: Designed like ski runs (Yellow\, Green\, Blue\, and Black)\, so you can choose the level of challenge that feels right for you.\n80+ Obstacles: Navigate a maze of suspended bridges\, ladders\, log swings\, and cargo nets.\nZiplines: Soar through the ponderosa pines on ziplines integrated directly into the courses.\n\nEvent Details: \n\nWhere & When\n\nGroup carpool (location & time TBD) or meet us there!\nTreehouse Adventure Park (60117 US Hwy 285\, Bailey\, CO)\nNeed to arrive at Treehouse Adventure Park at 8:30am\n\n\nDuration: 3 Hours of Climbing/Zipping Time\nWhat to Wear: Closed-toe shoes are required! We recommend comfortable\, athletic clothing.\n\nThere’s a beautiful picnic area on-site where we can gather to swap stories of our favorite ziplines once our time in the trees is done.  Please bring your lunch\, water\,  and any snacks you will need throughout the day!
URL:https://womensadventureclub.org/event/treehouse-adventure-park/
LOCATION:Treehoure Adventure Park\, 60117 US Hwy 285\, Bailey\, CO\, 80421\, United States
CATEGORIES:Special Events
ATTACH;FMTTYPE=image/jpeg:https://womensadventureclub.org/wp-content/uploads/2026/03/Image-5-1.jpeg
END:VEVENT
BEGIN:VEVENT
DTSTART;TZID=America/Denver:20260913T133000
DTEND;TZID=America/Denver:20260913T153000
DTSTAMP:20260423T123650
CREATED:20260414T192028Z
LAST-MODIFIED:20260414T192128Z
UID:10000248-1789306200-1789313400@womensadventureclub.org
SUMMARY:Menopause & Mental Health
DESCRIPTION:We are currently developing a dedicated workshop focused on menopause and the mental health changes that can accompany this transition. Full details\, including speaker announcement and workshop information\, will be released June 1st. STAY TUNED!
URL:https://womensadventureclub.org/event/menopause-mental-health/
LOCATION:Highlands Ranch Library Event Hall A/B\, 9292 Ridgeline Blvd\, Highlands Ranch\, CO\, 80129\, United States
CATEGORIES:Mental Health Education
ATTACH;FMTTYPE=image/png:https://womensadventureclub.org/wp-content/uploads/2026/04/Screenshot-2025-07-11-153437.png
END:VEVENT
END:VCALENDAR