BEGIN:VCALENDAR
VERSION:2.0
PRODID:-//The Women&#039;s Adventure Club - ECPv6.15.20//NONSGML v1.0//EN
CALSCALE:GREGORIAN
METHOD:PUBLISH
X-WR-CALNAME:The Women&#039;s Adventure Club
X-ORIGINAL-URL:https://womensadventureclub.org
X-WR-CALDESC:Events for The Women&#039;s Adventure Club
REFRESH-INTERVAL;VALUE=DURATION:PT1H
X-Robots-Tag:noindex
X-PUBLISHED-TTL:PT1H
BEGIN:VTIMEZONE
TZID:America/Denver
BEGIN:DAYLIGHT
TZOFFSETFROM:-0700
TZOFFSETTO:-0600
TZNAME:MDT
DTSTART:20250309T090000
END:DAYLIGHT
BEGIN:STANDARD
TZOFFSETFROM:-0600
TZOFFSETTO:-0700
TZNAME:MST
DTSTART:20251102T080000
END:STANDARD
BEGIN:DAYLIGHT
TZOFFSETFROM:-0700
TZOFFSETTO:-0600
TZNAME:MDT
DTSTART:20260308T090000
END:DAYLIGHT
BEGIN:STANDARD
TZOFFSETFROM:-0600
TZOFFSETTO:-0700
TZNAME:MST
DTSTART:20261101T080000
END:STANDARD
BEGIN:DAYLIGHT
TZOFFSETFROM:-0700
TZOFFSETTO:-0600
TZNAME:MDT
DTSTART:20270314T090000
END:DAYLIGHT
BEGIN:STANDARD
TZOFFSETFROM:-0600
TZOFFSETTO:-0700
TZNAME:MST
DTSTART:20271107T080000
END:STANDARD
END:VTIMEZONE
BEGIN:VEVENT
DTSTART;TZID=America/Denver:20260502T080000
DTEND;TZID=America/Denver:20260502T100000
DTSTAMP:20260423T104550
CREATED:20260328T145909Z
LAST-MODIFIED:20260418T183413Z
UID:10000239-1777708800-1777716000@womensadventureclub.org
SUMMARY:Hike at Fox Run Loop Trail
DESCRIPTION:Hike at Fox Run Loop Trail \nJoin us for a relaxing and scenic hike at Fox Run Regional Park\, a hidden gem near Colorado Springs known for its peaceful setting and beautiful pine forests.\nWe’ll start with the Fox Run Loop\, an easy 3.2-mile route that winds through well-maintained trails\, shady sections\, and towering pine trees. It’s the perfect outing for anyone looking to enjoy a laid-back hike surrounded by nature.\nWith over 7 miles of trails in the park\, we’ll have the flexibility to extend our adventure if the group is feeling up for a little extra mileage. \nTrail Details: \n\nDifficulty: Easy \nDistance: 3.2 miles (with option to add more)\nTerrain: Smooth\, well-maintained trails with plenty of shade\n\nHighlights: \n\nTall pine trees and peaceful forest scenery\nShady trails perfect for a comfortable hike\nFlexible distance options\n\nWhat to Bring: \n\nWater\nComfortable hiking shoes\nWeather-appropriate layers\n\nTrail Guides: Kelly Phillips and Stephanie Shivar
URL:https://womensadventureclub.org/event/hike-at-fox-run-loop-trail/
LOCATION:Fox Run Regional Park\, Colorado Springs\, CO\, 80921\, United States
CATEGORIES:Adventures
ATTACH;FMTTYPE=image/jpeg:https://womensadventureclub.org/wp-content/uploads/2026/03/Fox-Run-Regional-Park_wide.jpg
END:VEVENT
END:VCALENDAR