BEGIN:VCALENDAR
VERSION:2.0
PRODID:-//The Women&#039;s Adventure Club - ECPv6.15.20//NONSGML v1.0//EN
CALSCALE:GREGORIAN
METHOD:PUBLISH
X-WR-CALNAME:The Women&#039;s Adventure Club
X-ORIGINAL-URL:https://womensadventureclub.org
X-WR-CALDESC:Events for The Women&#039;s Adventure Club
REFRESH-INTERVAL;VALUE=DURATION:PT1H
X-Robots-Tag:noindex
X-PUBLISHED-TTL:PT1H
BEGIN:VTIMEZONE
TZID:America/Denver
BEGIN:DAYLIGHT
TZOFFSETFROM:-0700
TZOFFSETTO:-0600
TZNAME:MDT
DTSTART:20230312T090000
END:DAYLIGHT
BEGIN:STANDARD
TZOFFSETFROM:-0600
TZOFFSETTO:-0700
TZNAME:MST
DTSTART:20231105T080000
END:STANDARD
BEGIN:DAYLIGHT
TZOFFSETFROM:-0700
TZOFFSETTO:-0600
TZNAME:MDT
DTSTART:20240310T090000
END:DAYLIGHT
BEGIN:STANDARD
TZOFFSETFROM:-0600
TZOFFSETTO:-0700
TZNAME:MST
DTSTART:20241103T080000
END:STANDARD
BEGIN:DAYLIGHT
TZOFFSETFROM:-0700
TZOFFSETTO:-0600
TZNAME:MDT
DTSTART:20250309T090000
END:DAYLIGHT
BEGIN:STANDARD
TZOFFSETFROM:-0600
TZOFFSETTO:-0700
TZNAME:MST
DTSTART:20251102T080000
END:STANDARD
END:VTIMEZONE
BEGIN:VEVENT
DTSTART;TZID=America/Denver:20240716T090000
DTEND;TZID=America/Denver:20240716T100000
DTSTAMP:20260424T072002
CREATED:20240709T225629Z
LAST-MODIFIED:20240713T025320Z
UID:10000029-1721120400-1721124000@womensadventureclub.org
SUMMARY:McCabe Meadows
DESCRIPTION:Take a stroll a one of Parker’s own little gems! We can take the trail up to connect to Salisbury Park (playground for kiddos)\, or stay along Cherry Creek Trail. We will put it to a vote once we get there! There is a bathroom near the parking lot. Fun fact: This is a fantastic spot to get your family photos taken in the fall.
URL:https://womensadventureclub.org/event/mccabe-meadows/
LOCATION:McCabe Meadows\, 19700 Indianpipe Ln\, Parker\, CO\, 80134\, United States
CATEGORIES:Stroller Moms
ATTACH;FMTTYPE=image/jpeg:https://womensadventureclub.org/wp-content/uploads/2024/04/eyJidWNrZXQiOiJhc3NldHMuYWxsdHJhaWxzLmNvbSIsImtleSI6InVwbG9hZHMvcGhvdG8vaW1hZ2UvNTMwOTE3NzcvNzUzY2ZmMTU0MGQ2ZGM3ZGJiMmVjM2UwNTIxNjUzNjQuanBnIiwiZWRpdHMiO-e1720572232676.jpg
END:VEVENT
END:VCALENDAR