BEGIN:VCALENDAR
VERSION:2.0
PRODID:-//The Women&#039;s Adventure Club - ECPv6.15.20//NONSGML v1.0//EN
CALSCALE:GREGORIAN
METHOD:PUBLISH
X-WR-CALNAME:The Women&#039;s Adventure Club
X-ORIGINAL-URL:https://womensadventureclub.org
X-WR-CALDESC:Events for The Women&#039;s Adventure Club
REFRESH-INTERVAL;VALUE=DURATION:PT1H
X-Robots-Tag:noindex
X-PUBLISHED-TTL:PT1H
BEGIN:VTIMEZONE
TZID:America/Denver
BEGIN:DAYLIGHT
TZOFFSETFROM:-0700
TZOFFSETTO:-0600
TZNAME:MDT
DTSTART:20230312T090000
END:DAYLIGHT
BEGIN:STANDARD
TZOFFSETFROM:-0600
TZOFFSETTO:-0700
TZNAME:MST
DTSTART:20231105T080000
END:STANDARD
BEGIN:DAYLIGHT
TZOFFSETFROM:-0700
TZOFFSETTO:-0600
TZNAME:MDT
DTSTART:20240310T090000
END:DAYLIGHT
BEGIN:STANDARD
TZOFFSETFROM:-0600
TZOFFSETTO:-0700
TZNAME:MST
DTSTART:20241103T080000
END:STANDARD
BEGIN:DAYLIGHT
TZOFFSETFROM:-0700
TZOFFSETTO:-0600
TZNAME:MDT
DTSTART:20250309T090000
END:DAYLIGHT
BEGIN:STANDARD
TZOFFSETFROM:-0600
TZOFFSETTO:-0700
TZNAME:MST
DTSTART:20251102T080000
END:STANDARD
BEGIN:DAYLIGHT
TZOFFSETFROM:-0700
TZOFFSETTO:-0600
TZNAME:MDT
DTSTART:20260308T090000
END:DAYLIGHT
BEGIN:STANDARD
TZOFFSETFROM:-0600
TZOFFSETTO:-0700
TZNAME:MST
DTSTART:20261101T080000
END:STANDARD
END:VTIMEZONE
BEGIN:VEVENT
DTSTART;TZID=America/Denver:20250709T080000
DTEND;TZID=America/Denver:20250709T113000
DTSTAMP:20260423T233045
CREATED:20250620T194900Z
LAST-MODIFIED:20250705T023910Z
UID:10000164-1752048000-1752060600@womensadventureclub.org
SUMMARY:Hike East Canyon Preservation Trail @ Castlewood Canyon (Wednesday)
DESCRIPTION:UPDATE:  PARK ENTRANCE CHANGE!!  Discover Nature’s Beauty with Us!\nJoin us for a guided hike on this scenic 3.9-mile loop trail in Castlewood Canyon State Park near Franktown\, Colorado. This easy trail is perfect for a relaxing outdoor adventure\, offering a variety of ecosystems to explore. Trailhead parking is immediately to the right after you pass the visitor center. \nDetails: \n\nTrail Length: 3.9 miles\nDifficulty: Easy\nEntry: A parks pass or paid entry is required. UPDATE:  We are entering at the MAIN Entrance at Castlewood Canyon State Park –  Once you pass the entrance gate\, turn into the parking lot immediately to your right. \nTrail Guides: Liz Konley & Robin Lythgoe\n\nWhat to Expect:\nThis well-maintained trail showcases a stunning mix of landscapes\, from higher elevations in the southeast to lower areas in the northwest. Along the way\, enjoy opportunities for birding and quiet reflection\, especially during less busy hours. \nImportant Regulations: \n\nStay on designated trails to preserve the fragile environment.\nPets\, including dogs\, are not allowed.\nClimbing\, traversing\, or rappelling on rock formations is prohibited.\n\nExperience the serene beauty of Castlewood Canyon while respecting its natural habitat. This is an excellent chance to connect with others and immerse yourself in Colorado’s incredible outdoors. We look forward to seeing you there!
URL:https://womensadventureclub.org/event/hike-east-canyon-preservation-trail-castlewood-canyon-wednesday/
LOCATION:Castlewood Canyon\, 2989 CO-83\, Franktown\, CO\, 80116\, United States
CATEGORIES:Adventures
ATTACH;FMTTYPE=image/png:https://womensadventureclub.org/wp-content/uploads/2025/01/Screenshot-2025-01-24-105229.png
END:VEVENT
BEGIN:VEVENT
DTSTART;TZID=America/Denver:20250423T090000
DTEND;TZID=America/Denver:20250423T113000
DTSTAMP:20260423T233045
CREATED:20250124T175550Z
LAST-MODIFIED:20250422T233221Z
UID:10000134-1745398800-1745407800@womensadventureclub.org
SUMMARY:Hike East Canyon Preservation Trail @ Castlewood Canyon (Wednesday)
DESCRIPTION:UPDATE:  PARK ENTRANCE CHANGE!!  Discover Nature’s Beauty with Us!\nJoin us for a guided hike on this scenic 3.9-mile loop trail in Castlewood Canyon State Park near Franktown\, Colorado. This easy trail is perfect for a relaxing outdoor adventure\, offering a variety of ecosystems to explore. Trailhead parking is immediately to the right after you pass the visitor center. \nDetails: \n\nTrail Length: 3.9 miles\nDifficulty: Easy\nEntry: A parks pass or paid entry is required. UPDATE:  We are entering at the WEST Entrance at Castlewood Canyon State Park – the address is 125 North Castlewood Canyon Road\, Castle Rock.  Once you pass the west entrance gate\, the parking lot  is on the left about a quarter mile into the park\, near the old homestead.\nCarpool: If you would like to carpool and avoid the state park entry fee\, please post on the FB page.  The carpool spot will be Stroh Ranch Soccer Fields and will depart promptly at 8:30 am.\nTrail Guides: Kelly Phillips & Robin Lythgoe\n\nWhat to Expect:\nThis well-maintained trail showcases a stunning mix of landscapes\, from higher elevations in the southeast to lower areas in the northwest. Along the way\, enjoy opportunities for birding and quiet reflection\, especially during less busy hours. \nImportant Regulations: \n\nStay on designated trails to preserve the fragile environment.\nPets\, including dogs\, are not allowed.\nClimbing\, traversing\, or rappelling on rock formations is prohibited.\n\nExperience the serene beauty of Castlewood Canyon while respecting its natural habitat. This is an excellent chance to connect with others and immerse yourself in Colorado’s incredible outdoors. We look forward to seeing you there!
URL:https://womensadventureclub.org/event/hike-east-canyon-preservation-trail-castlewood-canyon/
LOCATION:Castlewood Canyon\, 2989 CO-83\, Franktown\, CO\, 80116\, United States
CATEGORIES:Adventures
ATTACH;FMTTYPE=image/png:https://womensadventureclub.org/wp-content/uploads/2025/01/Screenshot-2025-01-24-105229.png
END:VEVENT
BEGIN:VEVENT
DTSTART;TZID=America/Denver:20240720T080000
DTEND;TZID=America/Denver:20240720T110000
DTSTAMP:20260423T233045
CREATED:20240614T023455Z
LAST-MODIFIED:20240713T025135Z
UID:10000008-1721462400-1721473200@womensadventureclub.org
SUMMARY:Castlewood Canyon Hike/Run
DESCRIPTION:We have both a 2.6 mile and 6 mile options for our hikers and trial runners. State Parks pass required for entry\, we will organize carpool via our fb page. This hikes is one you have to try at least once!
URL:https://womensadventureclub.org/event/castlewood-canyon/
LOCATION:Castlewood Canyon\, 2989 CO-83\, Franktown\, CO\, 80116\, United States
CATEGORIES:Adventures
ATTACH;FMTTYPE=image/jpeg:https://womensadventureclub.org/wp-content/uploads/2024/04/AZ-CO-UT-AUG-2019-80-of-91-1-e1720639816352.jpg
END:VEVENT
END:VCALENDAR