BEGIN:VCALENDAR
VERSION:2.0
PRODID:-//The Women&#039;s Adventure Club - ECPv6.15.20//NONSGML v1.0//EN
CALSCALE:GREGORIAN
METHOD:PUBLISH
X-WR-CALNAME:The Women&#039;s Adventure Club
X-ORIGINAL-URL:https://womensadventureclub.org
X-WR-CALDESC:Events for The Women&#039;s Adventure Club
REFRESH-INTERVAL;VALUE=DURATION:PT1H
X-Robots-Tag:noindex
X-PUBLISHED-TTL:PT1H
BEGIN:VTIMEZONE
TZID:America/Denver
BEGIN:DAYLIGHT
TZOFFSETFROM:-0700
TZOFFSETTO:-0600
TZNAME:MDT
DTSTART:20250309T090000
END:DAYLIGHT
BEGIN:STANDARD
TZOFFSETFROM:-0600
TZOFFSETTO:-0700
TZNAME:MST
DTSTART:20251102T080000
END:STANDARD
BEGIN:DAYLIGHT
TZOFFSETFROM:-0700
TZOFFSETTO:-0600
TZNAME:MDT
DTSTART:20260308T090000
END:DAYLIGHT
BEGIN:STANDARD
TZOFFSETFROM:-0600
TZOFFSETTO:-0700
TZNAME:MST
DTSTART:20261101T080000
END:STANDARD
BEGIN:DAYLIGHT
TZOFFSETFROM:-0700
TZOFFSETTO:-0600
TZNAME:MDT
DTSTART:20270314T090000
END:DAYLIGHT
BEGIN:STANDARD
TZOFFSETFROM:-0600
TZOFFSETTO:-0700
TZNAME:MST
DTSTART:20271107T080000
END:STANDARD
END:VTIMEZONE
BEGIN:VEVENT
DTSTART;TZID=America/Denver:20260301T123000
DTEND;TZID=America/Denver:20260301T140000
DTSTAMP:20260423T121624
CREATED:20260130T193714Z
LAST-MODIFIED:20260130T211816Z
UID:10000224-1772368200-1772373600@womensadventureclub.org
SUMMARY:2026 Training Program Info Meeting
DESCRIPTION:Come hear from our program head and coaches\, ask any questions you may have\, and learn what to expect as a beginner in Women’s Adventure Club programs. This info meeting is designed to help reduce fear and intimidation before starting something new\, give you the chance to hear how women just like you got started\, and help you understand the real time commitment so it fits into your real life. \nYou’ll also get a behind-the-scenes look at why our programs are now consistently selling out\, what makes the WAC community so supportive\, and how our coaching approach helps women succeed — even if they’re starting from scratch. \nMost importantly\, you’ll get to meet the faces before showing up to your first team practice\, so you can walk in already feeling comfortable\, confident\, and supported.
URL:https://womensadventureclub.org/event/2026-training-program-info-meeting/
LOCATION:Castlewood Library\, 6739 S. Uinta St.\, Centennial\, CO\, 80112\, United States
CATEGORIES:Training Programs
ATTACH;FMTTYPE=image/png:https://womensadventureclub.org/wp-content/uploads/2026/01/Training-Programs-scaled-e1769807823838.png
END:VEVENT
END:VCALENDAR