BEGIN:VCALENDAR
VERSION:2.0
PRODID:-//The Women&#039;s Adventure Club - ECPv6.15.20//NONSGML v1.0//EN
CALSCALE:GREGORIAN
METHOD:PUBLISH
X-WR-CALNAME:The Women&#039;s Adventure Club
X-ORIGINAL-URL:https://womensadventureclub.org
X-WR-CALDESC:Events for The Women&#039;s Adventure Club
REFRESH-INTERVAL;VALUE=DURATION:PT1H
X-Robots-Tag:noindex
X-PUBLISHED-TTL:PT1H
BEGIN:VTIMEZONE
TZID:America/Denver
BEGIN:DAYLIGHT
TZOFFSETFROM:-0700
TZOFFSETTO:-0600
TZNAME:MDT
DTSTART:20230312T090000
END:DAYLIGHT
BEGIN:STANDARD
TZOFFSETFROM:-0600
TZOFFSETTO:-0700
TZNAME:MST
DTSTART:20231105T080000
END:STANDARD
BEGIN:DAYLIGHT
TZOFFSETFROM:-0700
TZOFFSETTO:-0600
TZNAME:MDT
DTSTART:20240310T090000
END:DAYLIGHT
BEGIN:STANDARD
TZOFFSETFROM:-0600
TZOFFSETTO:-0700
TZNAME:MST
DTSTART:20241103T080000
END:STANDARD
BEGIN:DAYLIGHT
TZOFFSETFROM:-0700
TZOFFSETTO:-0600
TZNAME:MDT
DTSTART:20250309T090000
END:DAYLIGHT
BEGIN:STANDARD
TZOFFSETFROM:-0600
TZOFFSETTO:-0700
TZNAME:MST
DTSTART:20251102T080000
END:STANDARD
BEGIN:DAYLIGHT
TZOFFSETFROM:-0700
TZOFFSETTO:-0600
TZNAME:MDT
DTSTART:20260308T090000
END:DAYLIGHT
BEGIN:STANDARD
TZOFFSETFROM:-0600
TZOFFSETTO:-0700
TZNAME:MST
DTSTART:20261101T080000
END:STANDARD
END:VTIMEZONE
BEGIN:VEVENT
DTSTART;TZID=America/Denver:20250827T080000
DTEND;TZID=America/Denver:20250827T110000
DTSTAMP:20260424T124115
CREATED:20250718T173729Z
LAST-MODIFIED:20250825T014410Z
UID:10000173-1756281600-1756292400@womensadventureclub.org
SUMMARY:CANCELLED DUE TO WEATHER - Chatfield SUP/Kayak
DESCRIPTION:Join us for a relaxing and fun-filled morning out on the water at Chatfield Reservoir. We’ll launch from the area next to Colorado Watersports and spend our time paddling\, soaking up the sun\, and connecting with our amazing community. \nWhether you’re bringing a kayak or a stand-up paddleboard (SUP)\, please come fully prepared to set up your own gear independently. We know many of you may be new to this\, and we’re so excited you’re jumping in! However\, our trail guides are not responsible for teaching board setup\, and we won’t be spending the morning assembling equipment. Be sure to review your gear ahead of time and practice setup at home if needed. \nWhat to bring: \n\nYour paddleboard or kayak (or rental)\nLife jacket / PFD\nPlenty of water\nSnacks or lunch\nSun protection (hat\, sunscreen\, sunglasses with strap)\nTowel and change of clothes (optional)\n\nLet’s make waves together this August—see you on the water! \nTrail Guides: Robin Lythgoe and Robin Kelly
URL:https://womensadventureclub.org/event/chatfield-sup-kayak-2/
LOCATION:Chatfield State Park\, 11500 N Roxborough Park Rd\, Littleton\, CO\, 80125\, United States
CATEGORIES:Adventures
ATTACH;FMTTYPE=image/jpeg:https://womensadventureclub.org/wp-content/uploads/2025/07/501793503_10163141021491543_6470224382237817090_n.jpg
END:VEVENT
BEGIN:VEVENT
DTSTART;TZID=America/Denver:20250531T080000
DTEND;TZID=America/Denver:20250531T110000
DTSTAMP:20260424T124115
CREATED:20250502T231859Z
LAST-MODIFIED:20250503T145401Z
UID:10000152-1748678400-1748689200@womensadventureclub.org
SUMMARY:Chatfield SUP/Kayak
DESCRIPTION:It’s finally paddleboarding and kayaking season! Join us for a relaxing and fun-filled morning out on the water at Chatfield Reservoir. We’ll launch from the area next to Colorado Watersports and spend our time paddling\, soaking up the sun\, and connecting with our amazing community. \nWhether you’re bringing a kayak or a stand-up paddleboard (SUP)\, please come fully prepared to set up your own gear independently. We know many of you may be new to this\, and we’re so excited you’re jumping in! However\, our trail guides are not responsible for teaching board setup\, and we won’t be spending the morning assembling equipment. Be sure to review your gear ahead of time and practice setup at home if needed. \nWhat to bring: \n\n\nYour paddleboard or kayak (or rental) \n\n\nLife jacket / PFD \n\n\nPlenty of water \n\n\nSnacks or lunch \n\n\nSun protection (hat\, sunscreen\, sunglasses with strap) \n\n\nTowel and change of clothes (optional) \n\n\nLet’s kick off summer together—on the water\, in great company\, and ready for adventure!
URL:https://womensadventureclub.org/event/chatfield-sup-kayak/
LOCATION:Chatfield State Park\, 11500 N Roxborough Park Rd\, Littleton\, CO\, 80125\, United States
CATEGORIES:Adventures
ATTACH;FMTTYPE=image/jpeg:https://womensadventureclub.org/wp-content/uploads/2024/04/Paddleboarding-Event-scaled.jpg
END:VEVENT
BEGIN:VEVENT
DTSTART;TZID=America/Denver:20240629T080000
DTEND;TZID=America/Denver:20240629T110000
DTSTAMP:20260424T124115
CREATED:20240614T024003Z
LAST-MODIFIED:20240711T011150Z
UID:10000006-1719648000-1719658800@womensadventureclub.org
SUMMARY:Chatfield SUP/Kayak
DESCRIPTION:Finally it’s paddle boarding and kayaking season! We will meet at Chatfield Reservoir and spend the day out on the water. Pack plenty of water and snacks! If you need a paddle board\, they are available to rent here. We will be parking next to Colorado Watersports.
URL:https://womensadventureclub.org/event/paddle-boarding/
LOCATION:Chatfield State Park\, 11500 N Roxborough Park Rd\, Littleton\, CO\, 80125\, United States
CATEGORIES:Adventures
ATTACH;FMTTYPE=image/jpeg:https://womensadventureclub.org/wp-content/uploads/2024/04/Paddleboarding-Event-scaled.jpg
END:VEVENT
END:VCALENDAR