BEGIN:VCALENDAR
VERSION:2.0
PRODID:-//The Women&#039;s Adventure Club - ECPv6.15.20//NONSGML v1.0//EN
CALSCALE:GREGORIAN
METHOD:PUBLISH
X-WR-CALNAME:The Women&#039;s Adventure Club
X-ORIGINAL-URL:https://womensadventureclub.org
X-WR-CALDESC:Events for The Women&#039;s Adventure Club
REFRESH-INTERVAL;VALUE=DURATION:PT1H
X-Robots-Tag:noindex
X-PUBLISHED-TTL:PT1H
BEGIN:VTIMEZONE
TZID:America/Denver
BEGIN:DAYLIGHT
TZOFFSETFROM:-0700
TZOFFSETTO:-0600
TZNAME:MDT
DTSTART:20230312T090000
END:DAYLIGHT
BEGIN:STANDARD
TZOFFSETFROM:-0600
TZOFFSETTO:-0700
TZNAME:MST
DTSTART:20231105T080000
END:STANDARD
BEGIN:DAYLIGHT
TZOFFSETFROM:-0700
TZOFFSETTO:-0600
TZNAME:MDT
DTSTART:20240310T090000
END:DAYLIGHT
BEGIN:STANDARD
TZOFFSETFROM:-0600
TZOFFSETTO:-0700
TZNAME:MST
DTSTART:20241103T080000
END:STANDARD
BEGIN:DAYLIGHT
TZOFFSETFROM:-0700
TZOFFSETTO:-0600
TZNAME:MDT
DTSTART:20250309T090000
END:DAYLIGHT
BEGIN:STANDARD
TZOFFSETFROM:-0600
TZOFFSETTO:-0700
TZNAME:MST
DTSTART:20251102T080000
END:STANDARD
BEGIN:DAYLIGHT
TZOFFSETFROM:-0700
TZOFFSETTO:-0600
TZNAME:MDT
DTSTART:20260308T090000
END:DAYLIGHT
BEGIN:STANDARD
TZOFFSETFROM:-0600
TZOFFSETTO:-0700
TZNAME:MST
DTSTART:20261101T080000
END:STANDARD
BEGIN:DAYLIGHT
TZOFFSETFROM:-0700
TZOFFSETTO:-0600
TZNAME:MDT
DTSTART:20270314T090000
END:DAYLIGHT
BEGIN:STANDARD
TZOFFSETFROM:-0600
TZOFFSETTO:-0700
TZNAME:MST
DTSTART:20271107T080000
END:STANDARD
END:VTIMEZONE
BEGIN:VEVENT
DTSTART;TZID=America/Denver:20260311T090000
DTEND;TZID=America/Denver:20260311T110000
DTSTAMP:20260423T121621
CREATED:20260130T181903Z
LAST-MODIFIED:20260213T224233Z
UID:10000223-1773219600-1773226800@womensadventureclub.org
SUMMARY:Hike Dawson's Butte
DESCRIPTION:Join us for a 4.9-mile loop hike on the beautiful Dawson Butte Trail near Larkspur\, Colorado! This route takes us through serene wooded areas\, across vast open pastures\, and beneath towering lodgepole pines\, offering a mix of scenic views and a touch of adventure. \nTrail Highlights: \n\nDistance: 4.9 miles (loop)\nDifficulty: Easy\nElevation Gain: Minimal\n\nEstimated Time: ~1 hour\, 50 minutes \nTerrain: Well-maintained with easy switchbacks and a small climb \nWhat to Expect: \n\nSweeping vistas of Castle Rock’s slopes and Dawson Butte’s striking\, castle-like face\nPeaceful wooded sections and wide-open meadows bursting with wildflowers (seasonal)\nRest stops at cozy log seating areas and the scenic Picnic Tree for a well-deserved break\n\nWhat to Bring: \n\nTraction (microspikes recommended)\nWarm\, breathable layers\nWater and snacks\n\nTrail Guides: Kelly Phillips 720-231-6443 and Robin Lythgoe 912-441-8538 \nWhether you’re here for the views\, the fresh air\, or simply the joy of hiking with a great group\, this trail has something for everyone. Sign up today and let’s explore Dawson Butte together! \n\n\n\nTrail Guide Contact: \n\n\n\n\n	Who's coming?\n\n	0 people are attending Dawson Butte \n	\n\n[/tribe_tickets_rsvp_protected_content]
URL:https://womensadventureclub.org/event/hike-dawsons-butte-6/
LOCATION:Dawson Butte\, Castle Rock\, CO\, 80109\, United States
CATEGORIES:Adventures
ATTACH;FMTTYPE=image/png:https://womensadventureclub.org/wp-content/uploads/2026/01/ChatGPT-Image-Jan-30-2026-11_17_26-AM.png
END:VEVENT
BEGIN:VEVENT
DTSTART;TZID=America/Denver:20250827T080000
DTEND;TZID=America/Denver:20250827T110000
DTSTAMP:20260423T121621
CREATED:20250825T014726Z
LAST-MODIFIED:20250825T211453Z
UID:10000182-1756281600-1756292400@womensadventureclub.org
SUMMARY:Hike Dawson's Butte
DESCRIPTION:Join us for a 4.9-mile loop hike on the beautiful Dawson Butte Trail near Larkspur\, Colorado! This route takes us through serene wooded areas\, across vast open pastures\, and beneath towering lodgepole pines\, offering a mix of scenic views and a touch of adventure. \nTrail Highlights: \n\nDistance: 4.9 miles (loop)\nDifficulty: Easy\nElevation Gain: Minimal\nEstimated Time: ~1 hour\, 50 minutes\nTerrain: Well-maintained with easy switchbacks and a small climb\n\nWhat to Expect: \n\nSweeping vistas of Castle Rock’s slopes and Dawson Butte’s striking\, castle-like face\nPeaceful wooded sections and wide-open meadows bursting with wildflowers (seasonal)\nRest stops at cozy log seating areas and the scenic Picnic Tree for a well-deserved break\n\nWhether you’re here for the views\, the fresh air\, or simply the joy of hiking with a great group\, this trail has something for everyone. Sign up today and let’s explore Dawson Butte together! \n\n\n\nTrail Guide Contact: \n\n\n\n\n	Who's coming?\n\n	0 people are attending Dawson Butte \n	\n\n[/tribe_tickets_rsvp_protected_content]
URL:https://womensadventureclub.org/event/hike-dawsons-butte-4/
LOCATION:Dawson Butte\, Castle Rock\, CO\, 80109\, United States
CATEGORIES:Adventures
ATTACH;FMTTYPE=image/jpeg:https://womensadventureclub.org/wp-content/uploads/2025/01/eyJidWNrZXQiOiJhc3NldHMuYWxsdHJhaWxzLmNvbSIsImtleSI6InVwbG9hZHMvcGhvdG8vaW1hZ2UvNjU3NTYxNjgvNmMxNjRiNDI5ZTI5YTIxOTg2ZGE1NWYxMDU5YWYzNDguanBnIiwiZWRpdHMiO-e1736727736898.jpg
END:VEVENT
BEGIN:VEVENT
DTSTART;TZID=America/Denver:20250503T080000
DTEND;TZID=America/Denver:20250503T110000
DTSTAMP:20260423T121621
CREATED:20250124T190336Z
LAST-MODIFIED:20250325T182631Z
UID:10000140-1746259200-1746270000@womensadventureclub.org
SUMMARY:Hike Dawson's Butte
DESCRIPTION:Join us for a 4.9-mile loop hike on the beautiful Dawson Butte Trail near Larkspur\, Colorado! This route takes us through serene wooded areas\, across vast open pastures\, and beneath towering lodgepole pines\, offering a mix of scenic views and a touch of adventure. \nTrail Highlights: \n\nDistance: 4.9 miles (loop)\nDifficulty: Easy\nElevation Gain: Minimal\nEstimated Time: ~1 hour\, 50 minutes\nTerrain: Well-maintained with easy switchbacks and a small climb\nTrail Guides: Anne Sand and Liz Konley\n\nWhat to Expect: \n\nSweeping vistas of Castle Rock’s slopes and Dawson Butte’s striking\, castle-like face\nPeaceful wooded sections and wide-open meadows bursting with wildflowers (seasonal)\nRest stops at cozy log seating areas and the scenic Picnic Tree for a well-deserved break\n\nWhether you’re here for the views\, the fresh air\, or simply the joy of hiking with a great group\, this trail has something for everyone. Sign up today and let’s explore Dawson Butte together! \n\n\n\nTrail Guide Contact: \n\n\n\n\n	Who's coming?\n\n	0 people are attending Dawson Butte \n	\n\n[/tribe_tickets_rsvp_protected_content]
URL:https://womensadventureclub.org/event/hike-dawsons-butte-3/
LOCATION:Dawson Butte\, Castle Rock\, CO\, 80109\, United States
CATEGORIES:Adventures
ATTACH;FMTTYPE=image/jpeg:https://womensadventureclub.org/wp-content/uploads/2025/01/eyJidWNrZXQiOiJhc3NldHMuYWxsdHJhaWxzLmNvbSIsImtleSI6InVwbG9hZHMvcGhvdG8vaW1hZ2UvNjU3NTYxNjgvNmMxNjRiNDI5ZTI5YTIxOTg2ZGE1NWYxMDU5YWYzNDguanBnIiwiZWRpdHMiO-e1736727736898.jpg
END:VEVENT
BEGIN:VEVENT
DTSTART;TZID=America/Denver:20250326T090000
DTEND;TZID=America/Denver:20250326T110000
DTSTAMP:20260423T121621
CREATED:20250113T002735Z
LAST-MODIFIED:20250315T201303Z
UID:10000127-1742979600-1742986800@womensadventureclub.org
SUMMARY:Hike Dawson's Butte (Wednesday)
DESCRIPTION:Join us for a 4.9-mile loop hike on the beautiful Dawson Butte Trail near Larkspur\, Colorado! This route takes us through serene wooded areas\, across vast open pastures\, and beneath towering lodgepole pines\, offering a mix of scenic views and a touch of adventure. \nTrail Highlights: \n\nDistance: 4.9 miles (loop)\nDifficulty: Easy\nElevation Gain: Minimal\nTerrain: Well-maintained with easy switchbacks and a small climb\nTrail Guides: Vange Pena-Jenks & Robin Lythgoe\n\nWhat to Expect: \n\nSweeping vistas of Castle Rock’s slopes and Dawson Butte’s striking\, castle-like face\nPeaceful wooded sections and wide-open meadows bursting with wildflowers (seasonal)\nRest stops at cozy log seating areas and the scenic Picnic Tree for a well-deserved break\n\nWhether you’re here for the views\, the fresh air\, or simply the joy of hiking with a great group\, this trail has something for everyone. Sign up today and let’s explore Dawson Butte together!
URL:https://womensadventureclub.org/event/hike-dawsons-butte/
LOCATION:Dawson Butte\, Castle Rock\, CO\, 80109\, United States
CATEGORIES:Adventures
ATTACH;FMTTYPE=image/jpeg:https://womensadventureclub.org/wp-content/uploads/2025/01/eyJidWNrZXQiOiJhc3NldHMuYWxsdHJhaWxzLmNvbSIsImtleSI6InVwbG9hZHMvcGhvdG8vaW1hZ2UvNjU3NTYxNjgvNmMxNjRiNDI5ZTI5YTIxOTg2ZGE1NWYxMDU5YWYzNDguanBnIiwiZWRpdHMiO-e1736727736898.jpg
END:VEVENT
BEGIN:VEVENT
DTSTART;TZID=America/Denver:20240619T080000
DTEND;TZID=America/Denver:20240619T110000
DTSTAMP:20260423T121621
CREATED:20250124T181159Z
LAST-MODIFIED:20250124T181301Z
UID:10000136-1718784000-1718794800@womensadventureclub.org
SUMMARY:Hike Dawson's Butte
DESCRIPTION:Explore Sweeping Views and Scenic Trails!\nJoin us for a hike on the beautiful Dawson’s Butte Loop near Larkspur\, Colorado. This 4.9-mile trail offers a mix of wooded areas\, open pastures\, and gentle switchbacks\, making it a rewarding and picturesque adventure. \nDetails: \n\nTrail Length: 4.9 miles\nDifficulty: Moderate\nDuration: ~1 hour 50 minutes\nTrail Guides: Anne Sand and Liz Konley\nDog Policy: Dogs are welcome but must be on a leash.\n\nWhat to Expect: \n\nThe trail winds through wooded areas and opens onto vast fields with breathtaking views of Dawson Butte’s rocky facade and the surrounding Castle Rock slopes.\nEnjoy the vibrant wildflowers that bloom in spring and summer\, adding color to the meadows.\nAlong the way\, take a break on log seats or at the charming “Picnic Tree” area under a ponderosa pine.\nThe path includes some easy switchbacks and a small climb\, offering a bit of a challenge but nothing too strenuous
URL:https://womensadventureclub.org/event/hike-dawsons-butte-2/
LOCATION:Dawson Butte\, Castle Rock\, CO\, 80109\, United States
CATEGORIES:Adventures
ATTACH;FMTTYPE=image/jpeg:https://womensadventureclub.org/wp-content/uploads/2024/06/DawsonButte-e1718730857266.jpg
END:VEVENT
BEGIN:VEVENT
DTSTART;TZID=America/Denver:20240619T080000
DTEND;TZID=America/Denver:20240619T110000
DTSTAMP:20260423T121621
CREATED:20240614T005558Z
LAST-MODIFIED:20240711T010726Z
UID:10000003-1718784000-1718794800@womensadventureclub.org
SUMMARY:Dawson Butte Open Space Hike/Run/Mtn Bike
DESCRIPTION:Dawson Butte is peaceful and inspiring to visitors\, with an open\, flowy\, curvy trail that follows the natural contours of the land and takes people on adventures through forested areas and meadows. The trail is popular year-round due to the mix of shade and sun throughout the trail.
URL:https://womensadventureclub.org/event/dawson-butte-open-space/
LOCATION:Dawson Butte\, Castle Rock\, CO\, 80109\, United States
CATEGORIES:Retirees
ATTACH;FMTTYPE=image/jpeg:https://womensadventureclub.org/wp-content/uploads/2024/06/DawsonButte-e1718730857266.jpg
END:VEVENT
END:VCALENDAR