BEGIN:VCALENDAR
VERSION:2.0
PRODID:-//The Women&#039;s Adventure Club - ECPv6.15.20//NONSGML v1.0//EN
CALSCALE:GREGORIAN
METHOD:PUBLISH
X-WR-CALNAME:The Women&#039;s Adventure Club
X-ORIGINAL-URL:https://womensadventureclub.org
X-WR-CALDESC:Events for The Women&#039;s Adventure Club
REFRESH-INTERVAL;VALUE=DURATION:PT1H
X-Robots-Tag:noindex
X-PUBLISHED-TTL:PT1H
BEGIN:VTIMEZONE
TZID:America/Denver
BEGIN:DAYLIGHT
TZOFFSETFROM:-0700
TZOFFSETTO:-0600
TZNAME:MDT
DTSTART:20240310T090000
END:DAYLIGHT
BEGIN:STANDARD
TZOFFSETFROM:-0600
TZOFFSETTO:-0700
TZNAME:MST
DTSTART:20241103T080000
END:STANDARD
BEGIN:DAYLIGHT
TZOFFSETFROM:-0700
TZOFFSETTO:-0600
TZNAME:MDT
DTSTART:20250309T090000
END:DAYLIGHT
BEGIN:STANDARD
TZOFFSETFROM:-0600
TZOFFSETTO:-0700
TZNAME:MST
DTSTART:20251102T080000
END:STANDARD
BEGIN:DAYLIGHT
TZOFFSETFROM:-0700
TZOFFSETTO:-0600
TZNAME:MDT
DTSTART:20260308T090000
END:DAYLIGHT
BEGIN:STANDARD
TZOFFSETFROM:-0600
TZOFFSETTO:-0700
TZNAME:MST
DTSTART:20261101T080000
END:STANDARD
END:VTIMEZONE
BEGIN:VEVENT
DTSTART;TZID=America/Denver:20250426T080000
DTEND;TZID=America/Denver:20250426T110000
DTSTAMP:20260423T223049
CREATED:20250124T180707Z
LAST-MODIFIED:20250425T235342Z
UID:10000135-1745654400-1745665200@womensadventureclub.org
SUMMARY:Hike or Snowshoe Fountain Valley Loop
DESCRIPTION:Explore Stunning Rock Formations and Wildlife!\nJoin us for a scenic hike on the Fountain Valley Loop near Louviers\, Colorado. If snow is present\, we’ll snowshoe. If the trail is clear\, we’ll hike. Please bring snowshoes\, hiking shoes\, and micro spikes to be prepared for either condition. This 2.6-mile trail winds through the beautiful Fountain and Lyons rock formations\, offering incredible views and a serene outdoor experience. \nDetails: \n\nTrail Length: 2.6 miles\nDifficulty: Easy\nDuration: ~1 hour 5 minutes\nEntry Fee: Roxborough State Park charges an entry fee unless you have a state parks pass.\nMeetup Location: Sportsman’s Warehouse (departure at 7:20 AM for carpooling).\nTrail Guides: Heather Ellis\, Robin Kelly\n\nWhat to Expect: \n\nWalk through diverse habitats teeming with wildlife\, including mule deer\, foxes\, and birds. Keep an eye out for golden eagles soaring above the rock formations!\nDiscover buildings built by Henry S. Persse at the turn of the century\, adding a historical touch to the hike.\nThe trail is wide and well-maintained\, with gravel surfaces and moderate elevation changes.\n\nImportant Notes: \n\nNo dogs or bikes are allowed on this trail to preserve the area’s natural beauty.\nThis hike offers “Garden of the Gods” vibes\, featuring blossoming flowers\, vibrant greenery\, and breathtaking rock formations.\n\nCome join us for an unforgettable outdoor adventure filled with natural beauty and camaraderie. We can’t wait to see you there!
URL:https://womensadventureclub.org/event/hike-or-snowshoe-fountain-valley-loop/
LOCATION:Fountain Valley Loop\, 4751 Roxborough Drive\, Littleton\, CO\, 80125\, United States
CATEGORIES:Adventures
ATTACH;FMTTYPE=image/png:https://womensadventureclub.org/wp-content/uploads/2025/01/Screenshot-2025-01-24-110044-e1737741918708.png
END:VEVENT
END:VCALENDAR