BEGIN:VCALENDAR
VERSION:2.0
PRODID:-//The Women&#039;s Adventure Club - ECPv6.15.20//NONSGML v1.0//EN
CALSCALE:GREGORIAN
METHOD:PUBLISH
X-WR-CALNAME:The Women&#039;s Adventure Club
X-ORIGINAL-URL:https://womensadventureclub.org
X-WR-CALDESC:Events for The Women&#039;s Adventure Club
REFRESH-INTERVAL;VALUE=DURATION:PT1H
X-Robots-Tag:noindex
X-PUBLISHED-TTL:PT1H
BEGIN:VTIMEZONE
TZID:America/Denver
BEGIN:DAYLIGHT
TZOFFSETFROM:-0700
TZOFFSETTO:-0600
TZNAME:MDT
DTSTART:20240310T090000
END:DAYLIGHT
BEGIN:STANDARD
TZOFFSETFROM:-0600
TZOFFSETTO:-0700
TZNAME:MST
DTSTART:20241103T080000
END:STANDARD
BEGIN:DAYLIGHT
TZOFFSETFROM:-0700
TZOFFSETTO:-0600
TZNAME:MDT
DTSTART:20250309T090000
END:DAYLIGHT
BEGIN:STANDARD
TZOFFSETFROM:-0600
TZOFFSETTO:-0700
TZNAME:MST
DTSTART:20251102T080000
END:STANDARD
BEGIN:DAYLIGHT
TZOFFSETFROM:-0700
TZOFFSETTO:-0600
TZNAME:MDT
DTSTART:20260308T090000
END:DAYLIGHT
BEGIN:STANDARD
TZOFFSETFROM:-0600
TZOFFSETTO:-0700
TZNAME:MST
DTSTART:20261101T080000
END:STANDARD
END:VTIMEZONE
BEGIN:VEVENT
DTSTART;TZID=America/Denver:20250913T080000
DTEND;TZID=America/Denver:20250913T100000
DTSTAMP:20260423T104348
CREATED:20250805T012923Z
LAST-MODIFIED:20250908T010809Z
UID:10000177-1757750400-1757757600@womensadventureclub.org
SUMMARY:Mountain Bike at Fox Run Loop Trail-UPDATED TRAIL!!!
DESCRIPTION:Group Mountain Bike at Fox Run Loop Trail \nReady to hit the trail and enjoy a laid-back ride with great company? Join us for a beginner-friendly mountain bike ride on the scenic Fox Run Loop Trail! This 4-mile loop has minimal elevation gain\, making it perfect for new riders or anyone just looking to cruise through nature and soak in the fresh air. \nThere are plenty of offshoots if we want to extend the ride\, or we can loop it more than once—it’s all about what feels good for the group! \nCome ride\, relax\, and connect with fellow adventure-lovers. \nDetails: \n\nTrail Length: 4 to 6 miles\nDifficulty: Moderate\nDuration: ~1 hour 32 minutes\nTrail Guides: Anne Sand and Liz Konley\n\nWhat to Bring: \n\nWater and snacks to stay fueled\nMountain bike that is in good working order. Remember Mike’s Bikes gives all members a discount – see the Perks tab for more information\nHelmet\, gloves and proper shoes\n\nWhether you’re an new or seasoned rider\, this guided mountain biking event is the perfect way to spend your Saturday. We can’t wait to ride with you!
URL:https://womensadventureclub.org/event/mountain-bike-at-fox-run/
LOCATION:Fox Run Regional Park\, Colorado Springs\, CO\, 80921\, United States
CATEGORIES:Adventures
ATTACH;FMTTYPE=image/jpeg:https://womensadventureclub.org/wp-content/uploads/2025/08/495572816_10163548345693296_8752133898349548063_n.jpg
END:VEVENT
END:VCALENDAR