BEGIN:VCALENDAR
VERSION:2.0
PRODID:-//The Women&#039;s Adventure Club - ECPv6.15.20//NONSGML v1.0//EN
CALSCALE:GREGORIAN
METHOD:PUBLISH
X-WR-CALNAME:The Women&#039;s Adventure Club
X-ORIGINAL-URL:https://womensadventureclub.org
X-WR-CALDESC:Events for The Women&#039;s Adventure Club
REFRESH-INTERVAL;VALUE=DURATION:PT1H
X-Robots-Tag:noindex
X-PUBLISHED-TTL:PT1H
BEGIN:VTIMEZONE
TZID:America/Denver
BEGIN:DAYLIGHT
TZOFFSETFROM:-0700
TZOFFSETTO:-0600
TZNAME:MDT
DTSTART:20240310T090000
END:DAYLIGHT
BEGIN:STANDARD
TZOFFSETFROM:-0600
TZOFFSETTO:-0700
TZNAME:MST
DTSTART:20241103T080000
END:STANDARD
BEGIN:DAYLIGHT
TZOFFSETFROM:-0700
TZOFFSETTO:-0600
TZNAME:MDT
DTSTART:20250309T090000
END:DAYLIGHT
BEGIN:STANDARD
TZOFFSETFROM:-0600
TZOFFSETTO:-0700
TZNAME:MST
DTSTART:20251102T080000
END:STANDARD
BEGIN:DAYLIGHT
TZOFFSETFROM:-0700
TZOFFSETTO:-0600
TZNAME:MDT
DTSTART:20260308T090000
END:DAYLIGHT
BEGIN:STANDARD
TZOFFSETFROM:-0600
TZOFFSETTO:-0700
TZNAME:MST
DTSTART:20261101T080000
END:STANDARD
END:VTIMEZONE
BEGIN:VEVENT
DTSTART;TZID=America/Denver:20250823T080000
DTEND;TZID=America/Denver:20250823T110000
DTSTAMP:20260424T011551
CREATED:20250718T010138Z
LAST-MODIFIED:20250718T010138Z
UID:10000172-1755936000-1755946800@womensadventureclub.org
SUMMARY:Cycling Cherry Creek Reservoir
DESCRIPTION:Pedal Through Scenic Beauty!\nJoin us for a family-friendly group bike ride around the Cherry Creek Reservoir near Centennial\, Colorado. This 6.7-mile loop is an easy\, enjoyable route perfect for riders of all levels. \nDetails: \n\nTrail Length: 6.7-mile loop\nDifficulty: Easy\nDuration: ~2 hours 3 minutes\nTrail Surface: Paved concrete\, asphalt\, gravel\, and natural dirt\nTrail Width: ~6 feet\nGrade: Mostly gentle (5% or less)\n\nWhat to Expect:\nThis picturesque trail encircles Cherry Creek Reservoir\, offering beautiful views and opportunities to spot wildlife. The area is also popular for camping\, swimming\, kayaking\, and fishing\, making it a hub of outdoor fun. You’ll likely see other outdoor enthusiasts as we ride\, so bring your friendly energy! \nMeeting Point:\nTo avoid parking fees\, we’ll meet at parking lot on the northeast corner of Parker Road and Quincy. From there\, we’ll ride a connecting trail directly into the park. \nTrail Guides: Liz Konley \nWhether you’re a seasoned cyclist or just looking for a leisurely ride\, this event is a great way to enjoy the outdoors and connect with others. See you on the trail!
URL:https://womensadventureclub.org/event/cycling-cherry-creek-reservoir/
LOCATION:Funiture Row Parking for Cherry Creek\, 4258 S Parker Rd\, Aurora\, CO\, 80014\, United States
CATEGORIES:Adventures
ATTACH;FMTTYPE=image/png:https://womensadventureclub.org/wp-content/uploads/2025/07/Screenshot-2025-01-24-103606.png
END:VEVENT
BEGIN:VEVENT
DTSTART;TZID=America/Denver:20250419T080000
DTEND;TZID=America/Denver:20250419T100000
DTSTAMP:20260424T011551
CREATED:20250124T173230Z
LAST-MODIFIED:20250124T173951Z
UID:10000133-1745049600-1745056800@womensadventureclub.org
SUMMARY:Bike Cherry Creek Reservoir
DESCRIPTION:Pedal Through Scenic Beauty!\nJoin us for a family-friendly group bike ride around the Cherry Creek Reservoir near Centennial\, Colorado. This 6.7-mile loop is an easy\, enjoyable route perfect for riders of all levels. \nDetails: \n\nTrail Length: 6.7-mile loop\nDifficulty: Easy\nDuration: ~2 hours 3 minutes\nTrail Surface: Paved concrete\, asphalt\, gravel\, and natural dirt\nTrail Width: ~6 feet\nGrade: Mostly gentle (5% or less)\n\nWhat to Expect:\nThis picturesque trail encircles Cherry Creek Reservoir\, offering beautiful views and opportunities to spot wildlife. The area is also popular for camping\, swimming\, kayaking\, and fishing\, making it a hub of outdoor fun. You’ll likely see other outdoor enthusiasts as we ride\, so bring your friendly energy! \nMeeting Point:\nTo avoid parking fees\, we’ll meet at parking lot on the northeast corner of Parker Road and Quincy. From there\, we’ll ride a connecting trail directly into the park. \nTrail Guides: Liz Konley \nWhether you’re a seasoned cyclist or just looking for a leisurely ride\, this event is a great way to enjoy the outdoors and connect with others. See you on the trail!
URL:https://womensadventureclub.org/event/bike-cherry-creek-reservoir/
LOCATION:Funiture Row Parking for Cherry Creek\, 4258 S Parker Rd\, Aurora\, CO\, 80014\, United States
CATEGORIES:Adventures
ATTACH;FMTTYPE=image/png:https://womensadventureclub.org/wp-content/uploads/2025/01/Screenshot-2025-01-24-103606-e1737740308124.png
END:VEVENT
END:VCALENDAR