BEGIN:VCALENDAR
VERSION:2.0
PRODID:-//The Women&#039;s Adventure Club - ECPv6.15.20//NONSGML v1.0//EN
CALSCALE:GREGORIAN
METHOD:PUBLISH
X-WR-CALNAME:The Women&#039;s Adventure Club
X-ORIGINAL-URL:https://womensadventureclub.org
X-WR-CALDESC:Events for The Women&#039;s Adventure Club
REFRESH-INTERVAL;VALUE=DURATION:PT1H
X-Robots-Tag:noindex
X-PUBLISHED-TTL:PT1H
BEGIN:VTIMEZONE
TZID:America/Denver
BEGIN:DAYLIGHT
TZOFFSETFROM:-0700
TZOFFSETTO:-0600
TZNAME:MDT
DTSTART:20230312T090000
END:DAYLIGHT
BEGIN:STANDARD
TZOFFSETFROM:-0600
TZOFFSETTO:-0700
TZNAME:MST
DTSTART:20231105T080000
END:STANDARD
BEGIN:DAYLIGHT
TZOFFSETFROM:-0700
TZOFFSETTO:-0600
TZNAME:MDT
DTSTART:20240310T090000
END:DAYLIGHT
BEGIN:STANDARD
TZOFFSETFROM:-0600
TZOFFSETTO:-0700
TZNAME:MST
DTSTART:20241103T080000
END:STANDARD
BEGIN:DAYLIGHT
TZOFFSETFROM:-0700
TZOFFSETTO:-0600
TZNAME:MDT
DTSTART:20250309T090000
END:DAYLIGHT
BEGIN:STANDARD
TZOFFSETFROM:-0600
TZOFFSETTO:-0700
TZNAME:MST
DTSTART:20251102T080000
END:STANDARD
BEGIN:DAYLIGHT
TZOFFSETFROM:-0700
TZOFFSETTO:-0600
TZNAME:MDT
DTSTART:20260308T090000
END:DAYLIGHT
BEGIN:STANDARD
TZOFFSETFROM:-0600
TZOFFSETTO:-0700
TZNAME:MST
DTSTART:20261101T080000
END:STANDARD
BEGIN:DAYLIGHT
TZOFFSETFROM:-0700
TZOFFSETTO:-0600
TZNAME:MDT
DTSTART:20270314T090000
END:DAYLIGHT
BEGIN:STANDARD
TZOFFSETFROM:-0600
TZOFFSETTO:-0700
TZNAME:MST
DTSTART:20271107T080000
END:STANDARD
END:VTIMEZONE
BEGIN:VEVENT
DTSTART;TZID=America/Denver:20260408T080000
DTEND;TZID=America/Denver:20260408T100000
DTSTAMP:20260423T104706
CREATED:20260306T175725Z
LAST-MODIFIED:20260408T015255Z
UID:10000231-1775635200-1775642400@womensadventureclub.org
SUMMARY:Hike at Mitchell Creek Canyon via Gateway Mesa
DESCRIPTION:Join us for a beautiful hike exploring Mitchell Creek Canyon via the Gateway Mesa Trailhead\, one of Castle Rock’s hidden gems. This trail showcases the unique ecology and geography of the Castle Rock area\, offering a canyon experience similar to nearby Castlewood Canyon—but often with far fewer crowds. \nWe’ll begin at the Gateway Mesa Trailhead and connect with the Mitchell Creek Canyon trail\, climbing gradually to the western rim of the canyon where the trail winds along scenic overlooks for much of the route. Along the way\, expect a variety of terrain\, changing landscapes\, and gorgeous views of the surrounding canyon and rock formations. \nThis outing will be approximately 4 miles out and back\, making it a great option for those looking for a moderately paced hike with plenty of visual rewards. \nWhat to bring: \n\nSturdy hiking shoes\nSunscreen and hat\nWater and snacks\n\nWildlife Awareness: Rattlesnakes are occasionally seen in this area\, especially on warm days. Stay on the trail\, watch where you step\, and give any wildlife plenty of space if encountered. \nCome experience one of Castle Rock’s scenic trails with us—this is definitely a hike worth adding to your list! \nTrail Guides: Kaylene Macias and Laura Wood
URL:https://womensadventureclub.org/event/hike-at-mitchell-creek-canyon-via-gateway-mesa-3/
LOCATION:Gateway Mesa\, Castle Rock\, CO\, 80104\, United States
CATEGORIES:Adventures
ATTACH;FMTTYPE=image/jpeg:https://womensadventureclub.org/wp-content/uploads/2025/05/Capture-e1746227361866.jpg
END:VEVENT
BEGIN:VEVENT
DTSTART;TZID=America/Denver:20251115T090000
DTEND;TZID=America/Denver:20251115T110000
DTSTAMP:20260423T104706
CREATED:20251004T232937Z
LAST-MODIFIED:20251114T153236Z
UID:10000195-1763197200-1763204400@womensadventureclub.org
SUMMARY:Gateway Mesa Hike - Chuck's Loop and Legacy Trail
DESCRIPTION:Get ready for an adventure-packed outing on the Gateway Mesa Loop\, a scenic 3-mile trail full of variety and surprises! The first two miles offer plenty of shade\, winding through forested terrain before opening up to unique rock features and stunning views of the surrounding cliffs. \n \nThis route keeps things interesting with a mix of singletrack switchbacks\, stairs\, bouldering sections\, and slick rock—a perfect balance of fun and challenge. Don’t forget your permanent marker to leave your signature on the famous truck at the bottom of the cliff! \nTrail Details: \n\nDistance: ~3 miles (loop\, with optional alternate routes for more mileage)\nDifficulty: Moderate (rock stairs\, boulders\, crevices\, narrow bridge)\nHighlights: Shaded sections\, diverse terrain\, and the iconic “truck”\nCaution: Poison ivy present—wear long pants\nBring: Water\, snacks\, sturdy shoes\, and sun protection\n\n\nCarpool Information to save space at trailhead parking lot: \nMeet at: Stroh Ranch Soccer Fields https://maps.app.goo.gl/qxshv7Vfqkyqeoh9A\nArrive by: 8:30 AM\nCars depart at: 8:35 AM sharp \nWhether you’re in the mood for a quick loop or feel like extending the adventure\, this hike promises great views\, variety\, and plenty of fun! \nTrail Guides: Liz Konley and Alicia Rippy
URL:https://womensadventureclub.org/event/gateway-mesa-hike-3/
LOCATION:Gateway Mesa\, Castle Rock\, CO\, 80104\, United States
CATEGORIES:Adventures
ATTACH;FMTTYPE=image/webp:https://womensadventureclub.org/wp-content/uploads/2024/07/bridge-e1720721039354.webp
END:VEVENT
BEGIN:VEVENT
DTSTART;TZID=America/Denver:20250528T090000
DTEND;TZID=America/Denver:20250528T110000
DTSTAMP:20260423T104706
CREATED:20250502T231122Z
LAST-MODIFIED:20250503T144939Z
UID:10000151-1748422800-1748430000@womensadventureclub.org
SUMMARY:Hike at Mitchell Creek Canyon via Gateway Mesa
DESCRIPTION:This trail is a great example of the ecology and geography of the Castle Rock area. It offers much of the same experience as the nearby Castlewood canyon without the crowds. The trail climbs to the western rim of the canyon which it follows for the majority of the hike. We will park at the Gateway Mesa Trailhead to connect with Mitchell Creek Canyon. Plan for about 4 miles out and back. Your trail guides are Robin Lythgoe and Vange Pena-Jenks. This is a gorgeous hike with lots of terrain changes and gorgeous views. Definitely one to make sure you visit! \n 
URL:https://womensadventureclub.org/event/hike-at-mitchell-creek-canyon-via-gateway-mesa/
LOCATION:Gateway Mesa\, Castle Rock\, CO\, 80104\, United States
CATEGORIES:Adventures
ATTACH;FMTTYPE=image/jpeg:https://womensadventureclub.org/wp-content/uploads/2025/05/Capture-e1746227361866.jpg
END:VEVENT
BEGIN:VEVENT
DTSTART;TZID=America/Denver:20240928T080000
DTEND;TZID=America/Denver:20240928T100000
DTSTAMP:20260423T104706
CREATED:20240711T181049Z
LAST-MODIFIED:20240713T022708Z
UID:10000044-1727510400-1727517600@womensadventureclub.org
SUMMARY:Gateway Mesa Hike/Run
DESCRIPTION:This is a 3 mile loop with lots of shade for the first 2 miles. Please wear pants as there are signs for poison ivy along this trail. This trail has a wide variety of terrain\, from single track switch backs\, stairs\, bouldering\, and slick rock. Bring your permanent marker to sign your name on the ghost jeep at the bottom of the cliff! More trail information here
URL:https://womensadventureclub.org/event/gateway-mesa-hike-run/
LOCATION:Gateway Mesa\, Castle Rock\, CO\, 80104\, United States
CATEGORIES:Adventures
ATTACH;FMTTYPE=image/webp:https://womensadventureclub.org/wp-content/uploads/2024/07/bridge-e1720721039354.webp
END:VEVENT
END:VCALENDAR