BEGIN:VCALENDAR
VERSION:2.0
PRODID:-//The Women&#039;s Adventure Club - ECPv6.15.20//NONSGML v1.0//EN
CALSCALE:GREGORIAN
METHOD:PUBLISH
X-WR-CALNAME:The Women&#039;s Adventure Club
X-ORIGINAL-URL:https://womensadventureclub.org
X-WR-CALDESC:Events for The Women&#039;s Adventure Club
REFRESH-INTERVAL;VALUE=DURATION:PT1H
X-Robots-Tag:noindex
X-PUBLISHED-TTL:PT1H
BEGIN:VTIMEZONE
TZID:America/Denver
BEGIN:DAYLIGHT
TZOFFSETFROM:-0700
TZOFFSETTO:-0600
TZNAME:MDT
DTSTART:20230312T090000
END:DAYLIGHT
BEGIN:STANDARD
TZOFFSETFROM:-0600
TZOFFSETTO:-0700
TZNAME:MST
DTSTART:20231105T080000
END:STANDARD
BEGIN:DAYLIGHT
TZOFFSETFROM:-0700
TZOFFSETTO:-0600
TZNAME:MDT
DTSTART:20240310T090000
END:DAYLIGHT
BEGIN:STANDARD
TZOFFSETFROM:-0600
TZOFFSETTO:-0700
TZNAME:MST
DTSTART:20241103T080000
END:STANDARD
BEGIN:DAYLIGHT
TZOFFSETFROM:-0700
TZOFFSETTO:-0600
TZNAME:MDT
DTSTART:20250309T090000
END:DAYLIGHT
BEGIN:STANDARD
TZOFFSETFROM:-0600
TZOFFSETTO:-0700
TZNAME:MST
DTSTART:20251102T080000
END:STANDARD
BEGIN:DAYLIGHT
TZOFFSETFROM:-0700
TZOFFSETTO:-0600
TZNAME:MDT
DTSTART:20260308T090000
END:DAYLIGHT
BEGIN:STANDARD
TZOFFSETFROM:-0600
TZOFFSETTO:-0700
TZNAME:MST
DTSTART:20261101T080000
END:STANDARD
END:VTIMEZONE
BEGIN:VEVENT
DTSTART;TZID=America/Denver:20251122T090000
DTEND;TZID=America/Denver:20251122T110000
DTSTAMP:20260423T215820
CREATED:20251007T184040Z
LAST-MODIFIED:20251117T165616Z
UID:10000197-1763802000-1763809200@womensadventureclub.org
SUMMARY:Explore the Paint Mines Interpretive Park near Calhan
DESCRIPTION:Step into a landscape unlike anywhere else in Colorado! Join us for a 4-mile adventure through the breathtaking Paint Mines Interpretive Park\, where vibrant\, otherworldly rock formations tell a story millions of years in the making. \nThis trail is an easy mix of paved and unpaved paths\, perfect for exploring the park’s colorful hoodoos\, clay spires\, and fascinating geological features. Along the way\, you’ll find interpretive signs that share the area’s rich history and natural wonders—making this both a scenic and educational experience! \nTrail Details: \n\nDistance: ~4 miles (looping paths)\nDifficulty: Easy\nHighlights: Colorful rock formations\, fascinating geology\, and panoramic views\nChallenges: No shade—bring plenty of water\, sunscreen\, and a hat\nNote: No dogs allowed—please leave furry friends at home\n\nCarpool: Meet at Stroh Ranch Soccer Fields in Parker – leaving at 7:45am sharp (https://maps.app.goo.gl/oQ8xbvCm9SoLP1mq8) \nTrail Guides: Liz Konley and Anne Sand \nCome explore one of Colorado’s hidden gems and experience the magic of the Paint Mines firsthand. You’ll feel like you’ve stepped onto another planet!
URL:https://womensadventureclub.org/event/paint-mines-trail-3/
LOCATION:Paint Mines Trail\, 29950 Paint Mine Rd\, Calhan\, CO\, 80808\, United States
CATEGORIES:Adventures
ATTACH;FMTTYPE=image/jpeg:https://womensadventureclub.org/wp-content/uploads/2025/10/PXL_20230319_165234431-scaled.jpg
END:VEVENT
BEGIN:VEVENT
DTSTART;TZID=America/Denver:20240911T080000
DTEND;TZID=America/Denver:20240911T220000
DTSTAMP:20260423T215820
CREATED:20240628T021652Z
LAST-MODIFIED:20240819T033823Z
UID:10000024-1726041600-1726092000@womensadventureclub.org
SUMMARY:Paint Mines Trail
DESCRIPTION:The Paint Mines trail takes hikers on an easy 3.7 mile loop through a badlands landscape of rainbow sandstone and hoodoo rock formations. We will take this loop trail clockwise for the best views. The Paint Mines were given their name because Native Americans used the crushed and colored sandstone to make paint and mined the soils to craft ceramic potter. Later\, settlers mined the same area to make bricks. The swathes of color are made up of iron compounds that oxidize when the rock is exposed to air. Gypsum and Quartzite bring the white colors and sparkles to the rock. It’s all clay\, dense sandstone color\, and the erosion from many years of water of wind has carved out some spectacular hoodoos (those columns of weird looking rock that stand out) and gullies that look like something from the surface of Mars. Carpool meetup at Stroh Ranch Soccer Park with a departure time of 6:50am. It is a 70 minute drive to the trailhead but I promise it is worth it!
URL:https://womensadventureclub.org/event/paint-mines-trail/
LOCATION:Paint Mines Trail\, 29950 Paint Mine Rd\, Calhan\, CO\, 80808\, United States
CATEGORIES:Retirees
ATTACH;FMTTYPE=image/jpeg:https://womensadventureclub.org/wp-content/uploads/2024/06/paint-mines-gully-and-hoodoos-near-colorado-springs-cc-bryce-bradford-e1719542221727.jpg
END:VEVENT
END:VCALENDAR