BEGIN:VCALENDAR
VERSION:2.0
PRODID:-//The Women&#039;s Adventure Club - ECPv6.15.20//NONSGML v1.0//EN
CALSCALE:GREGORIAN
METHOD:PUBLISH
X-WR-CALNAME:The Women&#039;s Adventure Club
X-ORIGINAL-URL:https://womensadventureclub.org
X-WR-CALDESC:Events for The Women&#039;s Adventure Club
REFRESH-INTERVAL;VALUE=DURATION:PT1H
X-Robots-Tag:noindex
X-PUBLISHED-TTL:PT1H
BEGIN:VTIMEZONE
TZID:America/Denver
BEGIN:DAYLIGHT
TZOFFSETFROM:-0700
TZOFFSETTO:-0600
TZNAME:MDT
DTSTART:20250309T090000
END:DAYLIGHT
BEGIN:STANDARD
TZOFFSETFROM:-0600
TZOFFSETTO:-0700
TZNAME:MST
DTSTART:20251102T080000
END:STANDARD
BEGIN:DAYLIGHT
TZOFFSETFROM:-0700
TZOFFSETTO:-0600
TZNAME:MDT
DTSTART:20260308T090000
END:DAYLIGHT
BEGIN:STANDARD
TZOFFSETFROM:-0600
TZOFFSETTO:-0700
TZNAME:MST
DTSTART:20261101T080000
END:STANDARD
BEGIN:DAYLIGHT
TZOFFSETFROM:-0700
TZOFFSETTO:-0600
TZNAME:MDT
DTSTART:20270314T090000
END:DAYLIGHT
BEGIN:STANDARD
TZOFFSETFROM:-0600
TZOFFSETTO:-0700
TZNAME:MST
DTSTART:20271107T080000
END:STANDARD
END:VTIMEZONE
BEGIN:VEVENT
DTSTART;TZID=America/Denver:20260325T090000
DTEND;TZID=America/Denver:20260325T110000
DTSTAMP:20260423T121801
CREATED:20260214T152358Z
LAST-MODIFIED:20260306T160531Z
UID:10000228-1774429200-1774436400@womensadventureclub.org
SUMMARY:Wednesday Hike at Red rocks and Morrison Slide Loop Trail
DESCRIPTION:Take a break from the weekday routine and join us for a refreshing hike at Red Rocks Park. This 3.2-mile loop with approximately 692 feet of elevation gain delivers just the right mix of movement and scenery to recharge your week. \nWe’ll weave our way through towering sandstone formations\, soaking in panoramic views of Red Rocks Amphitheatre and the surrounding foothills. The trail offers a blend of steady climbs and a few punchier sections to get the heart rate up—rewarded by sweeping vistas and that unmistakable Red Rocks magic. \nThis moderately challenging route is perfect for those wanting a solid midweek workout paired with iconic Colorado scenery. Come stretch your legs\, clear your head\, and enjoy a beautiful afternoon on the trails. \nTrail Details: \n\nDistance: 3.2 miles\nElevation Gain: ~692 feet\nDifficulty: Moderate\n\nWhat to Bring: \n\nWater and snacks\nSturdy hiking shoes\, micro spikes depending on conditions\nSun protection (hat\, sunscreen)\n\nTrail Guides: Robin Lythgoe 714-398-6035 and Rachel Grasso 914-213-7780
URL:https://womensadventureclub.org/event/wed-hike-at-red-rocks-and-morrison-slide-loop-trail/
LOCATION:Red Rocks Park and Amphitheatre\, 18300 W Alameda Pkwy\, Morrison\, 80465\, United States
CATEGORIES:Adventures
ATTACH;FMTTYPE=image/jpeg:https://womensadventureclub.org/wp-content/uploads/2026/02/Red-Rocks-2.jpg
END:VEVENT
BEGIN:VEVENT
DTSTART;TZID=America/Denver:20260221T090000
DTEND;TZID=America/Denver:20260221T110000
DTSTAMP:20260423T121801
CREATED:20260104T195027Z
LAST-MODIFIED:20260213T223440Z
UID:10000219-1771664400-1771671600@womensadventureclub.org
SUMMARY:Hike at Red rocks and Morrison Slide Loop Trail
DESCRIPTION:Experience one of Colorado’s most iconic landscapes on this scenic loop at Red Rocks Park. The Red Rocks and Morrison Slide Loop is a 3.2-mile hike with approximately 692 feet of elevation gain\, offering a rewarding workout paired with unforgettable views.\nThis route winds through dramatic sandstone formations and provides stunning overlooks of Red Rocks Amphitheater\, along with sweeping views of the surrounding foothills and unique geology that make this area so special. The trail features a mix of gradual climbs and steeper sections\, making it a great option for those looking for a moderately challenging hike with big visual payoffs. \nTrail Details: \n\nDistance: 3.2 miles\nElevation Gain: ~692 feet\nDifficulty: Moderate\n\nWhat to Bring: \n\nWater and snacks\nSturdy hiking shoes\, micro spikes depending on conditions\nSun protection (hat\, sunscreen)\n\nTrail Guides: Denise Reynolds 724-516-8212 and Stephanie Shivar 303-902-4841 \nCome enjoy fresh air\, striking scenery\, and one of the Front Range’s most recognizable natural landmarks—this hike packs a lot of beauty into a relatively short distance!
URL:https://womensadventureclub.org/event/hike-at-red-rocks-morrison-slide-loop-trail/
LOCATION:Red Rocks Park and Amphitheatre\, 18300 W Alameda Pkwy\, Morrison\, 80465\, United States
CATEGORIES:Adventures
ATTACH;FMTTYPE=image/jpeg:https://womensadventureclub.org/wp-content/uploads/2026/01/Red-rocks-morrison-slide-loop.jpg
END:VEVENT
END:VCALENDAR